Workbook
Name __Mhp1: [1]PsDataEntry!$B$14
Name __Mhp10: [1]PsDataEntry!$B$23
Name __Mhp11: [1]PsDataEntry!$B$24
Name __Mhp12: [1]PsDataEntry!$B$25
Name __Mhp2: [1]PsDataEntry!$B$15
Name __Mhp3: [1]PsDataEntry!$B$16
Name __Mhp4: [1]PsDataEntry!$B$17
Name __Mhp5: [1]PsDataEntry!$B$18
Name __Mhp6: [1]PsDataEntry!$B$19
Name __Mhp7: [1]PsDataEntry!$B$20
Name __Mhp8: [1]PsDataEntry!$B$21
Name __Mhp9: [1]PsDataEntry!$B$22
Name __Rsd1: [1]PsDataEntry!$B$32
Name __Rsd2: [1]PsDataEntry!$B$33
Name __Rsd3: [1]PsDataEntry!$B$34
Name __Rsd4: [1]PsDataEntry!$B$35
Name _gsi1: [1]PsDataEntry!$B$260
Name _gsi2: [1]PsDataEntry!$B$261
Name _Mhp1: [2]PsDataEntry!$B$14
Name _Mhp10: [2]PsDataEntry!$B$23
Name _Mhp11: [2]PsDataEntry!$B$24
Name _Mhp12: [2]PsDataEntry!$B$25
Name _Mhp2: [2]PsDataEntry!$B$15
Name _Mhp3: [2]PsDataEntry!$B$16
Name _Mhp4: [2]PsDataEntry!$B$17
Name _Mhp5: [2]PsDataEntry!$B$18
Name _Mhp6: [2]PsDataEntry!$B$19
Name _Mhp7: [2]PsDataEntry!$B$20
Name _Mhp8: [2]PsDataEntry!$B$21
Name _Mhp9: [2]PsDataEntry!$B$22
Name _Rsd1: [2]PsDataEntry!$B$32
Name _Rsd2: [2]PsDataEntry!$B$33
Name _Rsd3: [2]PsDataEntry!$B$34
Name _Rsd4: [2]PsDataEntry!$B$35
Name _tsi1: [1]PsDataEntry!$B$257
Name _tsi2: [1]PsDataEntry!$B$258
Name _tsi3: [1]PsDataEntry!$B$259
Name ADANI_Purchase: [2]PsDataEntry!$B$83
Name ADANI_Purchase_H0010: [2]Data!$H$375
Name ADANI_Purchase_H1000: [2]Data!$H$74
Name Ashp1: [2]PsDataEntry!$B$27
Name Ashp2: [2]PsDataEntry!$B$28
Name Ashp3: [2]PsDataEntry!$B$29
Name Ashp4: [2]PsDataEntry!$B$30
Name AuxConsumptionGGSSTP: [3]PsDataEntry!$B$50
Name AuxConsumptionGHTP: [3]PsDataEntry!$B$54
Name AuxConsumptionGNDTP: [3]PsDataEntry!$B$42
Name ggg: [3]PsDataEntry!$B$47
Name Ggsstp1: [2]PsDataEntry!$B$44
Name Ggsstp2: [2]PsDataEntry!$B$45
Name Ggsstp3: [2]PsDataEntry!$B$46
Name Ggsstp4: [2]PsDataEntry!$B$47
Name Ggsstp5: [2]PsDataEntry!$B$48
Name Ggsstp6: [2]PsDataEntry!$B$49
Name GgsstpOwnPlf: [3]PsDataEntry!$B$51
Name Ghtp1: [2]PsDataEntry!$B$52
Name Ghtp2: [2]PsDataEntry!$B$53
Name Ghtp3: [2]PsDataEntry!$B$211
Name GHTP4: [2]PsDataEntry!$B$225
Name GhtpOwnPlf: [3]PsDataEntry!$B$55

Sheet Own generation
G1: Format-1D
F2: Date | G2: ='Drwal Schedule'!A7 -> 43030
A3: Station-wise Daily Generation Data From Generating Stations (Thermal/Hydro/IPPs within State)
A5: A. Thermal Projects (Own Generation)
A6: Generation (Lu)
A7: S.No | B7: Name of Plant | C7: Unit | D7: As per Firm Installed Capacity | E7: Actual Generation | F7: Difference | G7: *Reasons for Variation
A9: Own Thermal Generation
A10: 1 | B10: GGSSTP, Ropar | C10: Unit-I | D10: 50.4 | E10: 0 | F10: =D10-E10 -> 50.4 | G10: a
C11: Unit-II | D11: 50.4 | E11: 0 | F11: =D11-E11 -> 50.4 | G11: a
C12: Unit-III | D12: 50.4 | E12: 0 | F12: =D12-E12 -> 50.4 | G12: a
C13: Unit-IV | D13: 50.4 | E13: 0 | F13: =D13-E13 -> 50.4 | G13: a
C14: Unit-V | D14: 50.4 | E14: 38.4 | F14: =D14-E14 -> 12 | G14: a
C15: Unit-VI | D15: 50.4 | E15: 0 | F15: =D15-E15 -> 50.4 | G15: a
B16: Total | D16: 302.4 | E16: =SUM(E10:E15) -> 38.4 | F16: =D16-E16 -> 264
A18: 2 | B18: GNDTP, Bathinda | C18: Unit-I | D18: 26.4 | E18: 0 | F18: =D18-E18 -> 26.4 | G18: a
C19: Unit-II | D19: 26.4 | E19: 0 | F19: =D19-E19 -> 26.4 | G19: a
C20: Unit-III | D20: 28.8 | E20: 0 | F20: =D20-E20 -> 28.8 | G20: a
C21: Unit-IV | D21: 28.8 | E21: 0 | F21: =D21-E21 -> 28.8 | G21: a
B22: Total | D22: 105.6 | E22: =SUM(E18:E21) -> 0 | F22: =D22-E22 -> 105.6
A24: 3 | B24: GHTP, L.Mohabat | C24: Unit-I | D24: 50.4 | E24: 0 | F24: =D24-E24 -> 50.4 | G24: a
C25: Unit-II | D25: 50.4 | E25: 0 | F25: =D25-E25 -> 50.4 | G25: a
C26: Unit-III | D26: 60 | E26: 0 | F26: =D26-E26 -> 60 | G26: a
C27: Unit-IV | D27: 60 | E27: 0 | F27: =D27-E27 -> 60 | G27: a
B28: Total | D28: 220.8 | E28: =SUM(E24,E25,E26,E27) -> 0 | F28: =D28-E28 -> 220.8
A29: Total own generation (Thermal) | D29: =D16+D22+D28 -> 628.8 | E29: =E16+E22+E28 -> 38.4 | F29: =F16+F22+F28 -> 590.4
A32: B. Hydel Projects (Own Hydel Projects)
A33: S.No | B33: Name of Plant | D33: As per Installed Capacity | E33: Actual Generation | F33: Difference | G33: *Reasons for Variation
D34: (Lus) | E34: (Lus) | F34: (Lus)
A35: Own Hydel Generation
A36: 1 | B36: Shanan | D36: 26.4 | E36: 8.99 | F36: =D36-E36 -> 17.41 | G36: o
A38: 2 | B38: UBDC | D38: 21.84 | E38: 10.8 | F38: =D38-E38 -> 11.04 | G38: o
A40: 3 | B40: MHP | D40: 49.68 | E40: 48.79 | F40: =D40-E40 -> 0.89 | G40: o
A42: 4 | B42: ASHP | D42: 32.16 | E42: 0 | F42: =D42-E42 -> 32.16 | G42: o
A44: 5 | B44: RSD | D44: 144 | E44: 31.38 | F44: =D44-E44 -> 112.62 | G44: o
A46: 6 | B46: MICRO | D46: 0 | E46: 0
B47: Total Hydel | D47: 275.52 | E47: =SUM(E36:E46) -> 99.96 | F47: =D47-E47 -> 175.56
A50: C | B50: IPPs within the state
A51: 1 | B51: NPL | C51: Unit-I | D51: 158.4 | E51: 158.1 | F51: =D51-E51 -> 0.3 | G51: a
C52: Unit-II | D52: 158.4 | E52: 0 | F52: =D52-E52 -> 158.4 | G52: a
C53: Total | D53: 316.8 | E53: =E51+E52 -> 158.1 | F53: =D53-E53 -> 158.7
A54: 2 | B54: TSPL | C54: Unit-I | E54: 102.17 | G54: a
C55: Unit-II | D55: 147.36 | E55: 77.45 | F55: =D55-E55 -> 69.91 | G55: a
C56: Unit-III | D56: 147.36 | E56: 99.07 | F56: =D56-E56 -> 48.29 | G56: a
C57: Total | D57: =SUM(D54:D56) -> 294.72 | E57: =E54+E55+E56 -> 278.69 | F57: =D57-E57 -> 16.03
A58: 3 | B58: GVK | C58: Unit-I | E58: 40.92 | G58: a
C59: Unit-II | E59: 45.98 | G59: b
C60: Total | D60: =SUM(D58:D59) -> 0 | E60: =E58+E59 -> 86.9
A61: Total of IPPs within the state | D61: =D53+D57+D60 -> 611.52 | E61: =E53+E57+E60 -> 523.69 | F61: =F53+F57+F60 -> 174.73
A63: * Reasons for Variation
A64: a | B64: Less Demand | E64: l | F64: Less Availability of Water
A65: b | B65: Coal Conservation | E65: m | F65: Maintenance of Canals Downstream
A66: c | B66: Technical Fault | E66: n | F66: To reduce discharge in view of emergent situation downstream.
A67: d | B67: Annual Maintenance | E67: o | F67: To meet with the Irrigation Requirement as per indent
A68: e | B68: Renovation
A69: f | B69: Unit Not Commissioned
A70: g | B70: To maintain grid stability in view of high frequency
A71: h | B71: Outage of Transmission Lines evacuating power either due to planned shutdown or on a/c of technical fault.
A72: i | B72: Transmission Contraints
A73: j | B73: Technical Fault at the receiving end of grid Station to bring down high system volatge.
A74: k | B74: To bring down high system voltage
A75: l | B75: Infirm generation

Sheet Drwal Schedule
K1: Format-2D
K2: Date | L2: =A7 -> 43030
A3: Final Drawal Schedule (Day ahead scheduling) submitted to NRLDC from Inter State Generating Stations (ISGS)
A5: Final Drawal Schedule submitted to NRLDC (BlockWise in MW) | CU5: Reasons For Variation (If Actual Drawal is different from Allocation)
A6: ForDate | B6: Revision | C6: IssueDateTime
A7: 43030 | B7: 62 | C7: 30/10/2017 17:41 Hrs
A8: State | B8: StationName | C8: Block1 | D8: Block2 | E8: Block3 | F8: Block4 | G8: Block5 | H8: Block6 | I8: Block7 | J8: Block8 | K8: Block9 | L8: Block10 | M8: Block11 | N8: Block12 | O8: Block13 | P8: Block14 | Q8: Block15 | R8: Block16 | S8: Block17 | T8: Block18 | U8: Block19 | V8: Block20 | W8: Block21 | X8: Block22 | Y8: Block23 | Z8: Block24 | AA8: Block25 | AB8: Block26 | AC8: Block27 | AD8: Block28 | AE8: Block29 | AF8: Block30 | AG8: Block31 | AH8: Block32 | AI8: Block33 | AJ8: Block34 | AK8: Block35 | AL8: Block36 | AM8: Block37 | AN8: Block38 | AO8: Block39 | AP8: Block40 | AQ8: Block41 | AR8: Block42 | AS8: Block43 | AT8: Block44 | AU8: Block45 | AV8: Block46 | AW8: Block47 | AX8: Block48 | AY8: Block49 | AZ8: Block50 | BA8: Block51 | BB8: Block52 | BC8: Block53 | BD8: Block54 | BE8: Block55 | BF8: Block56 | BG8: Block57 | BH8: Block58 | BI8: Block59 | BJ8: Block60 | BK8: Block61 | BL8: Block62 | BM8: Block63 | BN8: Block64 | BO8: Block65 | BP8: Block66 | BQ8: Block67 | BR8: Block68 | BS8: Block69 | BT8: Block70 | BU8: Block71 | BV8: Block72 | BW8: Block73 | BX8: Block74 | BY8: Block75 | BZ8: Block76 | CA8: Block77 | CB8: Block78 | CC8: Block79 | CD8: Block80 | CE8: Block81 | CF8: Block82 | CG8: Block83 | CH8: Block84 | CI8: Block85 | CJ8: Block86 | CK8: Block87 | CL8: Block88 | CM8: Block89 | CN8: Block90 | CO8: Block91 | CP8: Block92 | CQ8: Block93 | CR8: Block94 | CS8: Block95 | CT8: Block96
A9: State | B9: StationName | C9: 00:00-00:15 | D9: 00:15-00:30 | E9: 00:30-00:45 | F9: 00:45-01:00 | G9: 01:00-01:15 | H9: 01:15-01:30 | I9: 01:30-01:45 | J9: 01:45-02:00 | K9: 02:00-02:15 | L9: 02:15-02:30 | M9: 02:30-02:45 | N9: 02:45-03:00 | O9: 03:00-03:15 | P9: 03:15-03:30 | Q9: 03:30-03:45 | R9: 03:45-04:00 | S9: 04:00-04:15 | T9: 04:15-04:30 | U9: 04:30-04:45 | V9: 04:45-05:00 | W9: 05:00-05:15 | X9: 05:15-05:30 | Y9: 05:30-05:45 | Z9: 05:45-06:00 | AA9: 06:00-06:15 | AB9: 06:15-06:30 | AC9: 06:30-06:45 | AD9: 06:45-07:00 | AE9: 07:00-07:15 | AF9: 07:15-07:30 | AG9: 07:30-07:45 | AH9: 07:45-08:00 | AI9: 08:00-08:15 | AJ9: 08:15-08:30 | AK9: 08:30-08:45 | AL9: 08:45-09:00 | AM9: 09:00-09:15 | AN9: 09:15-09:30 | AO9: 09:30-09:45 | AP9: 09:45-10:00 | AQ9: 10:00-10:15 | AR9: 10:15-10:30 | AS9: 10:30-10:45 | AT9: 10:45-11:00 | AU9: 11:00-11:15 | AV9: 11:15-11:30 | AW9: 11:30-11:45 | AX9: 11:45-12:00 | AY9: 12:00-12:15 | AZ9: 12:15-12:30 | BA9: 12:30-12:45 | BB9: 12:45-13:00 | BC9: 13:00-13:15 | BD9: 13:15-13:30 | BE9: 13:30-13:45 | BF9: 13:45-14:00 | BG9: 14:00-14:15 | BH9: 14:15-14:30 | BI9: 14:30-14:45 | BJ9: 14:45-15:00 | BK9: 15:00-15:15 | BL9: 15:15-15:30 | BM9: 15:30-15:45 | BN9: 15:45-16:00 | BO9: 16:00-16:15 | BP9: 16:15-16:30 | BQ9: 16:30-16:45 | BR9: 16:45-17:00 | BS9: 17:00-17:15 | BT9: 17:15-17:30 | BU9: 17:30-17:45 | BV9: 17:45-18:00 | BW9: 18:00-18:15 | BX9: 18:15-18:30 | BY9: 18:30-18:45 | BZ9: 18:45-19:00 | CA9: 19:00-19:15 | CB9: 19:15-19:30 | CC9: 19:30-19:45 | CD9: 19:45-20:00 | CE9: 20:00-20:15 | CF9: 20:15-20:30 | CG9: 20:30-20:45 | CH9: 20:45-21:00 | CI9: 21:00-21:15 | CJ9: 21:15-21:30 | CK9: 21:30-21:45 | CL9: 21:45-22:00 | CM9: 22:00-22:15 | CN9: 22:15-22:30 | CO9: 22:30-22:45 | CP9: 22:45-23:00 | CQ9: 23:00-23:15 | CR9: 23:15-23:30 | CS9: 23:30-23:45 | CT9: 23:45-24:00
A10: PUNJAB | B10: ANTA_GF | C10: 0 | D10: 0 | E10: 0 | F10: 0 | G10: 0 | H10: 0 | I10: 0 | J10: 0 | K10: 0 | L10: 0 | M10: 0 | N10: 0 | O10: 0 | P10: 0 | Q10: 0 | R10: 0 | S10: 0 | T10: 0 | U10: 0 | V10: 0 | W10: 0 | X10: 0 | Y10: 0 | Z10: 0 | AA10: 0 | AB10: 0 | AC10: 0 | AD10: 0 | AE10: 0 | AF10: 0 | AG10: 0 | AH10: 0 | AI10: 0 | AJ10: 0 | AK10: 0 | AL10: 0 | AM10: 0 | AN10: 0 | AO10: 0 | AP10: 0 | AQ10: 0 | AR10: 0 | AS10: 0 | AT10: 0 | AU10: 0 | AV10: 0 | AW10: 0 | AX10: 0 | AY10: 0 | AZ10: 0 | BA10: 0 | BB10: 0 | BC10: 0 | BD10: 0 | BE10: 0 | BF10: 0 | BG10: 0 | BH10: 0 | BI10: 0 | BJ10: 0 | BK10: 0 | BL10: 0 | BM10: 0 | BN10: 0 | BO10: 0 | BP10: 0 | BQ10: 0 | BR10: 0 | BS10: 0 | BT10: 0 | BU10: 0 | BV10: 0 | BW10: 0 | BX10: 0 | BY10: 0 | BZ10: 0 | CA10: 0 | CB10: 0 | CC10: 0 | CD10: 0 | CE10: 0 | CF10: 0 | CG10: 0 | CH10: 0 | CI10: 0 | CJ10: 0 | CK10: 0 | CL10: 0 | CM10: 0 | CN10: 0 | CO10: 0 | CP10: 0 | CQ10: 0 | CR10: 0 | CS10: 0 | CT10: 0
A11: PUNJAB | B11: ANTA_LF | C11: 0 | D11: 0 | E11: 0 | F11: 0 | G11: 0 | H11: 0 | I11: 0 | J11: 0 | K11: 0 | L11: 0 | M11: 0 | N11: 0 | O11: 0 | P11: 0 | Q11: 0 | R11: 0 | S11: 0 | T11: 0 | U11: 0 | V11: 0 | W11: 0 | X11: 0 | Y11: 0 | Z11: 0 | AA11: 0 | AB11: 0 | AC11: 0 | AD11: 0 | AE11: 0 | AF11: 0 | AG11: 0 | AH11: 0 | AI11: 0 | AJ11: 0 | AK11: 0 | AL11: 0 | AM11: 0 | AN11: 0 | AO11: 0 | AP11: 0 | AQ11: 0 | AR11: 0 | AS11: 0 | AT11: 0 | AU11: 0 | AV11: 0 | AW11: 0 | AX11: 0 | AY11: 0 | AZ11: 0 | BA11: 0 | BB11: 0 | BC11: 0 | BD11: 0 | BE11: 0 | BF11: 0 | BG11: 0 | BH11: 0 | BI11: 0 | BJ11: 0 | BK11: 0 | BL11: 0 | BM11: 0 | BN11: 0 | BO11: 0 | BP11: 0 | BQ11: 0 | BR11: 0 | BS11: 0 | BT11: 0 | BU11: 0 | BV11: 0 | BW11: 0 | BX11: 0 | BY11: 0 | BZ11: 0 | CA11: 0 | CB11: 0 | CC11: 0 | CD11: 0 | CE11: 0 | CF11: 0 | CG11: 0 | CH11: 0 | CI11: 0 | CJ11: 0 | CK11: 0 | CL11: 0 | CM11: 0 | CN11: 0 | CO11: 0 | CP11: 0 | CQ11: 0 | CR11: 0 | CS11: 0 | CT11: 0
A12: PUNJAB | B12: ANTA_RF | C12: 0 | D12: 0 | E12: 0 | F12: 0 | G12: 0 | H12: 0 | I12: 0 | J12: 0 | K12: 0 | L12: 0 | M12: 0 | N12: 0 | O12: 0 | P12: 0 | Q12: 0 | R12: 0 | S12: 0 | T12: 0 | U12: 0 | V12: 0 | W12: 0 | X12: 0 | Y12: 0 | Z12: 0 | AA12: 0 | AB12: 0 | AC12: 0 | AD12: 0 | AE12: 0 | AF12: 0 | AG12: 0 | AH12: 0 | AI12: 0 | AJ12: 0 | AK12: 0 | AL12: 0 | AM12: 0 | AN12: 0 | AO12: 0 | AP12: 0 | AQ12: 0 | AR12: 0 | AS12: 0 | AT12: 0 | AU12: 0 | AV12: 0 | AW12: 0 | AX12: 0 | AY12: 0 | AZ12: 0 | BA12: 0 | BB12: 0 | BC12: 0 | BD12: 0 | BE12: 0 | BF12: 0 | BG12: 0 | BH12: 0 | BI12: 0 | BJ12: 0 | BK12: 0 | BL12: 0 | BM12: 0 | BN12: 0 | BO12: 0 | BP12: 0 | BQ12: 0 | BR12: 0 | BS12: 0 | BT12: 0 | BU12: 0 | BV12: 0 | BW12: 0 | BX12: 0 | BY12: 0 | BZ12: 0 | CA12: 0 | CB12: 0 | CC12: 0 | CD12: 0 | CE12: 0 | CF12: 0 | CG12: 0 | CH12: 0 | CI12: 0 | CJ12: 0 | CK12: 0 | CL12: 0 | CM12: 0 | CN12: 0 | CO12: 0 | CP12: 0 | CQ12: 0 | CR12: 0 | CS12: 0 | CT12: 0
A13: PUNJAB | B13: AURY_GF | C13: 0 | D13: 0 | E13: 0 | F13: 0 | G13: 0 | H13: 0 | I13: 0 | J13: 0 | K13: 0 | L13: 0 | M13: 0 | N13: 0 | O13: 0 | P13: 0 | Q13: 0 | R13: 0 | S13: 0 | T13: 0 | U13: 0 | V13: 0 | W13: 0 | X13: 0 | Y13: 0 | Z13: 0 | AA13: 0 | AB13: 0 | AC13: 0 | AD13: 0 | AE13: 0 | AF13: 0 | AG13: 0 | AH13: 0 | AI13: 0 | AJ13: 0 | AK13: 0 | AL13: 0 | AM13: 0 | AN13: 0 | AO13: 0 | AP13: 0 | AQ13: 0 | AR13: 0 | AS13: 0 | AT13: 0 | AU13: 0 | AV13: 0 | AW13: 0 | AX13: 0 | AY13: 0 | AZ13: 0 | BA13: 0 | BB13: 0 | BC13: 0 | BD13: 0 | BE13: 0 | BF13: 0 | BG13: 0 | BH13: 0 | BI13: 0 | BJ13: 0 | BK13: 0 | BL13: 0 | BM13: 0 | BN13: 0 | BO13: 0 | BP13: 0 | BQ13: 0 | BR13: 0 | BS13: 0 | BT13: 0 | BU13: 0 | BV13: 0 | BW13: 0 | BX13: 0 | BY13: 0 | BZ13: 0 | CA13: 0 | CB13: 0 | CC13: 0 | CD13: 0 | CE13: 0 | CF13: 0 | CG13: 0 | CH13: 0 | CI13: 0 | CJ13: 0 | CK13: 0 | CL13: 0 | CM13: 0 | CN13: 0 | CO13: 0 | CP13: 0 | CQ13: 0 | CR13: 0 | CS13: 0 | CT13: 0
A14: PUNJAB | B14: AURY_LF | C14: 0 | D14: 0 | E14: 0 | F14: 0 | G14: 0 | H14: 0 | I14: 0 | J14: 0 | K14: 0 | L14: 0 | M14: 0 | N14: 0 | O14: 0 | P14: 0 | Q14: 0 | R14: 0 | S14: 0 | T14: 0 | U14: 0 | V14: 0 | W14: 0 | X14: 0 | Y14: 0 | Z14: 0 | AA14: 0 | AB14: 0 | AC14: 0 | AD14: 0 | AE14: 0 | AF14: 0 | AG14: 0 | AH14: 0 | AI14: 0 | AJ14: 0 | AK14: 0 | AL14: 0 | AM14: 0 | AN14: 0 | AO14: 0 | AP14: 0 | AQ14: 0 | AR14: 0 | AS14: 0 | AT14: 0 | AU14: 0 | AV14: 0 | AW14: 0 | AX14: 0 | AY14: 0 | AZ14: 0 | BA14: 0 | BB14: 0 | BC14: 0 | BD14: 0 | BE14: 0 | BF14: 0 | BG14: 0 | BH14: 0 | BI14: 0 | BJ14: 0 | BK14: 0 | BL14: 0 | BM14: 0 | BN14: 0 | BO14: 0 | BP14: 0 | BQ14: 0 | BR14: 0 | BS14: 0 | BT14: 0 | BU14: 0 | BV14: 0 | BW14: 0 | BX14: 0 | BY14: 0 | BZ14: 0 | CA14: 0 | CB14: 0 | CC14: 0 | CD14: 0 | CE14: 0 | CF14: 0 | CG14: 0 | CH14: 0 | CI14: 0 | CJ14: 0 | CK14: 0 | CL14: 0 | CM14: 0 | CN14: 0 | CO14: 0 | CP14: 0 | CQ14: 0 | CR14: 0 | CS14: 0 | CT14: 0
A15: PUNJAB | B15: AURY_RF | C15: 0 | D15: 0 | E15: 0 | F15: 0 | G15: 0 | H15: 0 | I15: 0 | J15: 0 | K15: 0 | L15: 0 | M15: 0 | N15: 0 | O15: 0 | P15: 0 | Q15: 0 | R15: 0 | S15: 0 | T15: 0 | U15: 0 | V15: 0 | W15: 0 | X15: 0 | Y15: 0 | Z15: 0 | AA15: 0 | AB15: 0 | AC15: 0 | AD15: 0 | AE15: 0 | AF15: 0 | AG15: 0 | AH15: 0 | AI15: 0 | AJ15: 0 | AK15: 0 | AL15: 0 | AM15: 0 | AN15: 0 | AO15: 0 | AP15: 0 | AQ15: 0 | AR15: 0 | AS15: 0 | AT15: 0 | AU15: 0 | AV15: 0 | AW15: 0 | AX15: 0 | AY15: 0 | AZ15: 0 | BA15: 0 | BB15: 0 | BC15: 0 | BD15: 0 | BE15: 0 | BF15: 0 | BG15: 0 | BH15: 0 | BI15: 0 | BJ15: 0 | BK15: 0 | BL15: 0 | BM15: 0 | BN15: 0 | BO15: 0 | BP15: 0 | BQ15: 0 | BR15: 0 | BS15: 0 | BT15: 0 | BU15: 0 | BV15: 0 | BW15: 0 | BX15: 0 | BY15: 0 | BZ15: 0 | CA15: 0 | CB15: 0 | CC15: 0 | CD15: 0 | CE15: 0 | CF15: 0 | CG15: 0 | CH15: 0 | CI15: 0 | CJ15: 0 | CK15: 0 | CL15: 0 | CM15: 0 | CN15: 0 | CO15: 0 | CP15: 0 | CQ15: 0 | CR15: 0 | CS15: 0 | CT15: 0
A16: PUNJAB | B16: BHAKRA | C16: 132.97 | D16: 132.97 | E16: 132.97 | F16: 132.97 | G16: 132.97 | H16: 132.97 | I16: 132.97 | J16: 132.97 | K16: 132.97 | L16: 132.97 | M16: 132.97 | N16: 132.97 | O16: 132.97 | P16: 132.97 | Q16: 132.97 | R16: 132.97 | S16: 132.97 | T16: 132.97 | U16: 132.97 | V16: 185.67 | W16: 185.67 | X16: 185.67 | Y16: 185.67 | Z16: 185.67 | AA16: 185.67 | AB16: 185.67 | AC16: 185.67 | AD16: 185.67 | AE16: 185.67 | AF16: 185.67 | AG16: 185.67 | AH16: 185.67 | AI16: 185.67 | AJ16: 185.67 | AK16: 185.67 | AL16: 185.67 | AM16: 185.67 | AN16: 185.67 | AO16: 132.97 | AP16: 132.97 | AQ16: 132.97 | AR16: 132.97 | AS16: 132.97 | AT16: 132.97 | AU16: 132.97 | AV16: 132.97 | AW16: 132.97 | AX16: 132.97 | AY16: 132.97 | AZ16: 132.97 | BA16: 132.97 | BB16: 132.97 | BC16: 132.97 | BD16: 132.97 | BE16: 132.97 | BF16: 132.97 | BG16: 132.97 | BH16: 132.97 | BI16: 132.97 | BJ16: 132.97 | BK16: 132.97 | BL16: 132.97 | BM16: 132.97 | BN16: 132.97 | BO16: 132.97 | BP16: 132.97 | BQ16: 132.97 | BR16: 132.97 | BS16: 132.97 | BT16: 185.67 | BU16: 254.62 | BV16: 323.57 | BW16: 429.41 | BX16: 429.41 | BY16: 429.41 | BZ16: 429.41 | CA16: 429.41 | CB16: 429.41 | CC16: 429.41 | CD16: 429.41 | CE16: 424.58 | CF16: 424.58 | CG16: 424.58 | CH16: 424.58 | CI16: 356.51 | CJ16: 288.44 | CK16: 222.56 | CL16: 185.67 | CM16: 132.97 | CN16: 132.97 | CO16: 132.97 | CP16: 132.97 | CQ16: 132.97 | CR16: 132.97 | CS16: 132.97 | CT16: 132.97
A17: PUNJAB | B17: BSIUL | C17: 27.9 | D17: 27.9 | E17: 27.9 | F17: 27.9 | G17: 27.9 | H17: 27.9 | I17: 27.9 | J17: 27.9 | K17: 0 | L17: 0 | M17: 0 | N17: 0 | O17: 0 | P17: 0 | Q17: 0 | R17: 0 | S17: 0 | T17: 0 | U17: 0 | V17: 0 | W17: 0 | X17: 27.9 | Y17: 27.9 | Z17: 27.9 | AA17: 27.9 | AB17: 27.9 | AC17: 27.9 | AD17: 27.9 | AE17: 27.9 | AF17: 27.9 | AG17: 27.9 | AH17: 27.9 | AI17: 0 | AJ17: 0 | AK17: 0 | AL17: 0 | AM17: 0 | AN17: 0 | AO17: 0 | AP17: 0 | AQ17: 0 | AR17: 0 | AS17: 0 | AT17: 27.9 | AU17: 27.9 | AV17: 27.9 | AW17: 27.9 | AX17: 27.9 | AY17: 27.9 | AZ17: 27.9 | BA17: 27.9 | BB17: 27.9 | BC17: 18.6 | BD17: 0 | BE17: 0 | BF17: 0 | BG17: 0 | BH17: 0 | BI17: 0 | BJ17: 0 | BK17: 0 | BL17: 0 | BM17: 0 | BN17: 0 | BO17: 0 | BP17: 0 | BQ17: 0 | BR17: 0 | BS17: 0 | BT17: 0 | BU17: 0 | BV17: 0 | BW17: 30.69 | BX17: 56.73 | BY17: 56.73 | BZ17: 56.73 | CA17: 56.73 | CB17: 56.73 | CC17: 56.73 | CD17: 38.13 | CE17: 0 | CF17: 0 | CG17: 0 | CH17: 0 | CI17: 0 | CJ17: 0 | CK17: 0 | CL17: 0 | CM17: 0 | CN17: 0 | CO17: 0 | CP17: 0 | CQ17: 0 | CR17: 0 | CS17: 0 | CT17: 0
A18: PUNJAB | B18: CHAMERA1 | C18: 0 | D18: 0 | E18: 0 | F18: 0 | G18: 0 | H18: 0 | I18: 0 | J18: 0 | K18: 0 | L18: 0 | M18: 0 | N18: 0 | O18: 0 | P18: 0 | Q18: 0 | R18: 0 | S18: 0 | T18: 0 | U18: 0 | V18: 0 | W18: 0 | X18: 0 | Y18: 0 | Z18: 0 | AA18: 0 | AB18: 18.16 | AC18: 18.16 | AD18: 18.16 | AE18: 18.16 | AF18: 18.16 | AG18: 18.16 | AH18: 0 | AI18: 0 | AJ18: 0 | AK18: 0 | AL18: 0 | AM18: 0 | AN18: 0 | AO18: 0 | AP18: 0 | AQ18: 0 | AR18: 0 | AS18: 0 | AT18: 0 | AU18: 0 | AV18: 0 | AW18: 0 | AX18: 0 | AY18: 0 | AZ18: 0 | BA18: 0 | BB18: 0 | BC18: 0 | BD18: 0 | BE18: 0 | BF18: 0 | BG18: 0 | BH18: 0 | BI18: 0 | BJ18: 0 | BK18: 0 | BL18: 0 | BM18: 0 | BN18: 0 | BO18: 0 | BP18: 0 | BQ18: 0 | BR18: 0 | BS18: 18.16 | BT18: 18.16 | BU18: 31.93 | BV18: 45.39 | BW18: 51 | BX18: 54.47 | BY18: 54.47 | BZ18: 54.47 | CA18: 54.47 | CB18: 54.47 | CC18: 54.47 | CD18: 54.47 | CE18: 54.47 | CF18: 54.47 | CG18: 52.02 | CH18: 51 | CI18: 36.31 | CJ18: 36.31 | CK18: 36.31 | CL18: 36.31 | CM18: 30.6 | CN18: 18.16 | CO18: 0 | CP18: 0 | CQ18: 0 | CR18: 0 | CS18: 0 | CT18: 0
A19: PUNJAB | B19: CHAMERA2 | C19: 13.87 | D19: 13.87 | E19: 0 | F19: 0 | G19: 0 | H19: 0 | I19: 0 | J19: 0 | K19: 0 | L19: 0 | M19: 0 | N19: 0 | O19: 0 | P19: 0 | Q19: 0 | R19: 0 | S19: 0 | T19: 0 | U19: 0 | V19: 0 | W19: 0 | X19: 0 | Y19: 0 | Z19: 0 | AA19: 0 | AB19: 12.61 | AC19: 12.61 | AD19: 12.61 | AE19: 12.61 | AF19: 12.61 | AG19: 12.61 | AH19: 12.61 | AI19: 12.61 | AJ19: 12.61 | AK19: 12.61 | AL19: 12.61 | AM19: 12.61 | AN19: 12.61 | AO19: 12.61 | AP19: 13.87 | AQ19: 13.87 | AR19: 13.87 | AS19: 13.87 | AT19: 13.87 | AU19: 13.87 | AV19: 13.87 | AW19: 13.87 | AX19: 13.87 | AY19: 13.87 | AZ19: 13.87 | BA19: 13.87 | BB19: 13.87 | BC19: 13.87 | BD19: 13.87 | BE19: 13.87 | BF19: 13.87 | BG19: 13.87 | BH19: 13.87 | BI19: 13.87 | BJ19: 13.87 | BK19: 13.87 | BL19: 13.87 | BM19: 13.87 | BN19: 13.87 | BO19: 13.87 | BP19: 13.87 | BQ19: 13.87 | BR19: 13.87 | BS19: 13.87 | BT19: 13.87 | BU19: 13.87 | BV19: 27.74 | BW19: 42.03 | BX19: 42.03 | BY19: 42.03 | BZ19: 42.03 | CA19: 42.03 | CB19: 42.03 | CC19: 42.03 | CD19: 42.03 | CE19: 42.03 | CF19: 41.47 | CG19: 41.47 | CH19: 27.74 | CI19: 27.74 | CJ19: 24.94 | CK19: 13.87 | CL19: 13.87 | CM19: 13.87 | CN19: 13.87 | CO19: 13.87 | CP19: 13.87 | CQ19: 13.87 | CR19: 13.87 | CS19: 13.87 | CT19: 13.87
A20: PUNJAB | B20: CHAMERA3 | C20: 0 | D20: 0 | E20: 0 | F20: 0 | G20: 0 | H20: 0 | I20: 0 | J20: 0 | K20: 0 | L20: 0 | M20: 0 | N20: 0 | O20: 0 | P20: 0 | Q20: 0 | R20: 0 | S20: 0 | T20: 0 | U20: 0 | V20: 0 | W20: 0 | X20: 0 | Y20: 0 | Z20: 0 | AA20: 8.4 | AB20: 8.4 | AC20: 8.4 | AD20: 8.4 | AE20: 8.4 | AF20: 8.4 | AG20: 8.4 | AH20: 8.4 | AI20: 8.4 | AJ20: 8.4 | AK20: 8.4 | AL20: 8.4 | AM20: 8.4 | AN20: 8.4 | AO20: 8.4 | AP20: 8.4 | AQ20: 8.4 | AR20: 8.4 | AS20: 8.4 | AT20: 8.4 | AU20: 8.4 | AV20: 8.4 | AW20: 8.4 | AX20: 8.4 | AY20: 8.4 | AZ20: 8.4 | BA20: 8.4 | BB20: 8.4 | BC20: 8.4 | BD20: 8.4 | BE20: 8.4 | BF20: 8.4 | BG20: 8.4 | BH20: 8.4 | BI20: 8.4 | BJ20: 8.4 | BK20: 8.4 | BL20: 8.4 | BM20: 8.4 | BN20: 8.4 | BO20: 8.4 | BP20: 8.4 | BQ20: 8.4 | BR20: 8.4 | BS20: 8.4 | BT20: 8.4 | BU20: 8.4 | BV20: 16.79 | BW20: 25.86 | BX20: 25.86 | BY20: 25.86 | BZ20: 25.86 | CA20: 25.86 | CB20: 25.86 | CC20: 25.86 | CD20: 25.86 | CE20: 25.86 | CF20: 25.86 | CG20: 25.86 | CH20: 25.86 | CI20: 16.79 | CJ20: 8.4 | CK20: 0 | CL20: 0 | CM20: 0 | CN20: 0 | CO20: 0 | CP20: 0 | CQ20: 0 | CR20: 0 | CS20: 0 | CT20: 0
A21: PUNJAB | B21: DADRI_GF | C21: 30.67 | D21: 30.67 | E21: 30.67 | F21: 30.59 | G21: 30.59 | H21: 30.75 | I21: 30.68 | J21: 30.68 | K21: 30.68 | L21: 30.61 | M21: 30.55 | N21: 30.55 | O21: 30.55 | P21: 30.55 | Q21: 30.55 | R21: 30.55 | S21: 30.55 | T21: 30.55 | U21: 30.55 | V21: 30.55 | W21: 30.55 | X21: 30.55 | Y21: 30.55 | Z21: 30.55 | AA21: 22.96 | AB21: 22.96 | AC21: 23.12 | AD21: 23.12 | AE21: 23.12 | AF21: 23.34 | AG21: 23.34 | AH21: 25.84 | AI21: 25.72 | AJ21: 25.72 | AK21: 25.72 | AL21: 27.39 | AM21: 27.25 | AN21: 27.25 | AO21: 27.4 | AP21: 27.4 | AQ21: 27.4 | AR21: 27.4 | AS21: 27.4 | AT21: 26.02 | AU21: 26.02 | AV21: 26.02 | AW21: 26.02 | AX21: 26.02 | AY21: 26.02 | AZ21: 26.02 | BA21: 26.02 | BB21: 26.02 | BC21: 27.4 | BD21: 27.4 | BE21: 27.4 | BF21: 27.4 | BG21: 27.27 | BH21: 27.27 | BI21: 27.27 | BJ21: 27.4 | BK21: 27.4 | BL21: 27.4 | BM21: 27.4 | BN21: 27.4 | BO21: 27.4 | BP21: 27.4 | BQ21: 27.4 | BR21: 27.93 | BS21: 27.92 | BT21: 27.39 | BU21: 27.39 | BV21: 27.42 | BW21: 27.42 | BX21: 27.42 | BY21: 27.42 | BZ21: 27.42 | CA21: 26.07 | CB21: 26.07 | CC21: 26.07 | CD21: 26.5 | CE21: 26.5 | CF21: 26.64 | CG21: 27.64 | CH21: 27.64 | CI21: 27.57 | CJ21: 27.57 | CK21: 27.57 | CL21: 26.25 | CM21: 26.25 | CN21: 26.25 | CO21: 26.25 | CP21: 26.25 | CQ21: 26.25 | CR21: 26.25 | CS21: 27.57 | CT21: 27.57
... A57: PUNJAB | B57: URI2 | C57: 2.85 | D57: 2.85 | E57: 2.85 | F57: 2.85 | G57: 2.85 | H57: 2.85 | I57: 2.85 | J57: 2.85 | K57: 2.85 | L57: 2.85 | M57: 2.85 | N57: 2.85 | O57: 2.85 | P57: 2.85 | Q57: 2.85 | R57: 2.85 | S57: 2.85 | T57: 2.85 | U57: 2.85 | V57: 2.85 | W57: 2.85 | X57: 2.85 | Y57: 2.85 | Z57: 2.85 | AA57: 2.85 | AB57: 2.85 | AC57: 2.85 | AD57: 2.85 | AE57: 2.85 | AF57: 2.85 | AG57: 2.85 | AH57: 2.85 | AI57: 13.01 | AJ57: 13.01 | AK57: 13.01 | AL57: 13.01 | AM57: 13.01 | AN57: 2.85 | AO57: 2.85 | AP57: 2.85 | AQ57: 2.85 | AR57: 2.85 | AS57: 2.85 | AT57: 2.85 | AU57: 2.85 | AV57: 2.85 | AW57: 2.85 | AX57: 2.85 | AY57: 2.85 | AZ57: 2.85 | BA57: 2.85 | BB57: 2.85 | BC57: 2.85 | BD57: 2.85 | BE57: 2.85 | BF57: 2.85 | BG57: 2.85 | BH57: 2.85 | BI57: 2.85 | BJ57: 2.85 | BK57: 2.85 | BL57: 2.85 | BM57: 2.85 | BN57: 2.85 | BO57: 2.85 | BP57: 2.85 | BQ57: 2.85 | BR57: 2.85 | BS57: 2.85 | BT57: 2.85 | BU57: 2.85 | BV57: 2.85 | BW57: 2.85 | BX57: 2.85 | BY57: 2.85 | BZ57: 2.85 | CA57: 2.85 | CB57: 13.01 | CC57: 13.01 | CD57: 13.01 | CE57: 13.01 | CF57: 13.01 | CG57: 13.01 | CH57: 13.01 | CI57: 2.85 | CJ57: 2.85 | CK57: 2.85 | CL57: 2.85 | CM57: 2.85 | CN57: 2.85 | CO57: 2.85 | CP57: 2.85 | CQ57: 2.85 | CR57: 2.85 | CS57: 2.85 | CT57: 2.85
A60: ForDate | B60: Revision | C60: IssueDateTime
A61: 43030 | B61: 62 | C61: 30/10/2017 17:41 Hrs
A62: State | B62: StationName | C62: Block1 | D62: Block2 | E62: Block3 | F62: Block4 | G62: Block5 | H62: Block6 | I62: Block7 | J62: Block8 | K62: Block9 | L62: Block10 | M62: Block11 | N62: Block12 | O62: Block13 | P62: Block14 | Q62: Block15 | R62: Block16 | S62: Block17 | T62: Block18 | U62: Block19 | V62: Block20 | W62: Block21 | X62: Block22 | Y62: Block23 | Z62: Block24 | AA62: Block25 | AB62: Block26 | AC62: Block27 | AD62: Block28 | AE62: Block29 | AF62: Block30 | AG62: Block31 | AH62: Block32 | AI62: Block33 | AJ62: Block34 | AK62: Block35 | AL62: Block36 | AM62: Block37 | AN62: Block38 | AO62: Block39 | AP62: Block40 | AQ62: Block41 | AR62: Block42 | AS62: Block43 | AT62: Block44 | AU62: Block45 | AV62: Block46 | AW62: Block47 | AX62: Block48 | AY62: Block49 | AZ62: Block50 | BA62: Block51 | BB62: Block52 | BC62: Block53 | BD62: Block54 | BE62: Block55 | BF62: Block56 | BG62: Block57 | BH62: Block58 | BI62: Block59 | BJ62: Block60 | BK62: Block61 | BL62: Block62 | BM62: Block63 | BN62: Block64 | BO62: Block65 | BP62: Block66 | BQ62: Block67 | BR62: Block68 | BS62: Block69 | BT62: Block70 | BU62: Block71 | BV62: Block72 | BW62: Block73 | BX62: Block74 | BY62: Block75 | BZ62: Block76 | CA62: Block77 | CB62: Block78 | CC62: Block79 | CD62: Block80 | CE62: Block81 | CF62: Block82 | CG62: Block83 | CH62: Block84 | CI62: Block85 | CJ62: Block86 | CK62: Block87 | CL62: Block88 | CM62: Block89 | CN62: Block90 | CO62: Block91 | CP62: Block92 | CQ62: Block93 | CR62: Block94 | CS62: Block95 | CT62: Block96
A63: State | B63: StationName | C63: 00:00-00:15 | D63: 00:15-00:30 | E63: 00:30-00:45 | F63: 00:45-01:00 | G63: 01:00-01:15 | H63: 01:15-01:30 | I63: 01:30-01:45 | J63: 01:45-02:00 | K63: 02:00-02:15 | L63: 02:15-02:30 | M63: 02:30-02:45 | N63: 02:45-03:00 | O63: 03:00-03:15 | P63: 03:15-03:30 | Q63: 03:30-03:45 | R63: 03:45-04:00 | S63: 04:00-04:15 | T63: 04:15-04:30 | U63: 04:30-04:45 | V63: 04:45-05:00 | W63: 05:00-05:15 | X63: 05:15-05:30 | Y63: 05:30-05:45 | Z63: 05:45-06:00 | AA63: 06:00-06:15 | AB63: 06:15-06:30 | AC63: 06:30-06:45 | AD63: 06:45-07:00 | AE63: 07:00-07:15 | AF63: 07:15-07:30 | AG63: 07:30-07:45 | AH63: 07:45-08:00 | AI63: 08:00-08:15 | AJ63: 08:15-08:30 | AK63: 08:30-08:45 | AL63: 08:45-09:00 | AM63: 09:00-09:15 | AN63: 09:15-09:30 | AO63: 09:30-09:45 | AP63: 09:45-10:00 | AQ63: 10:00-10:15 | AR63: 10:15-10:30 | AS63: 10:30-10:45 | AT63: 10:45-11:00 | AU63: 11:00-11:15 | AV63: 11:15-11:30 | AW63: 11:30-11:45 | AX63: 11:45-12:00 | AY63: 12:00-12:15 | AZ63: 12:15-12:30 | BA63: 12:30-12:45 | BB63: 12:45-13:00 | BC63: 13:00-13:15 | BD63: 13:15-13:30 | BE63: 13:30-13:45 | BF63: 13:45-14:00 | BG63: 14:00-14:15 | BH63: 14:15-14:30 | BI63: 14:30-14:45 | BJ63: 14:45-15:00 | BK63: 15:00-15:15 | BL63: 15:15-15:30 | BM63: 15:30-15:45 | BN63: 15:45-16:00 | BO63: 16:00-16:15 | BP63: 16:15-16:30 | BQ63: 16:30-16:45 | BR63: 16:45-17:00 | BS63: 17:00-17:15 | BT63: 17:15-17:30 | BU63: 17:30-17:45 | BV63: 17:45-18:00 | BW63: 18:00-18:15 | BX63: 18:15-18:30 | BY63: 18:30-18:45 | BZ63: 18:45-19:00 | CA63: 19:00-19:15 | CB63: 19:15-19:30 | CC63: 19:30-19:45 | CD63: 19:45-20:00 | CE63: 20:00-20:15 | CF63: 20:15-20:30 | CG63: 20:30-20:45 | CH63: 20:45-21:00 | CI63: 21:00-21:15 | CJ63: 21:15-21:30 | CK63: 21:30-21:45 | CL63: 21:45-22:00 | CM63: 22:00-22:15 | CN63: 22:15-22:30 | CO63: 22:30-22:45 | CP63: 22:45-23:00 | CQ63: 23:00-23:15 | CR63: 23:15-23:30 | CS63: 23:30-23:45 | CT63: 23:45-24:00
A64: PUNJAB | B64: ANTA_GF | C64: 0 | D64: 0 | E64: 0 | F64: 0 | G64: 0 | H64: 0 | I64: 0 | J64: 0 | K64: 0 | L64: 0 | M64: 0 | N64: 0 | O64: 0 | P64: 0 | Q64: 0 | R64: 0 | S64: 0 | T64: 0 | U64: 0 | V64: 0 | W64: 0 | X64: 0 | Y64: 0 | Z64: 0 | AA64: 0 | AB64: 0 | AC64: 0 | AD64: 0 | AE64: 0 | AF64: 0 | AG64: 0 | AH64: 0 | AI64: 0 | AJ64: 0 | AK64: 0 | AL64: 0 | AM64: 0 | AN64: 0 | AO64: 0 | AP64: 0 | AQ64: 0 | AR64: 0 | AS64: 0 | AT64: 0 | AU64: 0 | AV64: 0 | AW64: 0 | AX64: 0 | AY64: 0 | AZ64: 0 | BA64: 0 | BB64: 0 | BC64: 0 | BD64: 0 | BE64: 0 | BF64: 0 | BG64: 0 | BH64: 0 | BI64: 0 | BJ64: 0 | BK64: 0 | BL64: 0 | BM64: 0 | BN64: 0 | BO64: 0 | BP64: 0 | BQ64: 0 | BR64: 0 | BS64: 0 | BT64: 0 | BU64: 0 | BV64: 0 | BW64: 0 | BX64: 0 | BY64: 0 | BZ64: 0 | CA64: 0 | CB64: 0 | CC64: 0 | CD64: 0 | CE64: 0 | CF64: 0 | CG64: 0 | CH64: 0 | CI64: 0 | CJ64: 0 | CK64: 0 | CL64: 0 | CM64: 0 | CN64: 0 | CO64: 0 | CP64: 0 | CQ64: 0 | CR64: 0 | CS64: 0 | CT64: 0
A65: PUNJAB | B65: ANTA_LF | C65: 0 | D65: 0 | E65: 0 | F65: 0 | G65: 0 | H65: 0 | I65: 0 | J65: 0 | K65: 0 | L65: 0 | M65: 0 | N65: 0 | O65: 0 | P65: 0 | Q65: 0 | R65: 0 | S65: 0 | T65: 0 | U65: 0 | V65: 0 | W65: 0 | X65: 0 | Y65: 0 | Z65: 0 | AA65: 0 | AB65: 0 | AC65: 0 | AD65: 0 | AE65: 0 | AF65: 0 | AG65: 0 | AH65: 0 | AI65: 0 | AJ65: 0 | AK65: 0 | AL65: 0 | AM65: 4.51 | AN65: 4.51 | AO65: 4.51 | AP65: 4.51 | AQ65: 4.51 | AR65: 4.51 | AS65: 4.51 | AT65: 4.51 | AU65: 4.51 | AV65: 4.51 | AW65: 4.51 | AX65: 4.51 | AY65: 4.51 | AZ65: 4.51 | BA65: 4.51 | BB65: 4.51 | BC65: 4.51 | BD65: 4.51 | BE65: 4.51 | BF65: 4.51 | BG65: 4.51 | BH65: 4.51 | BI65: 4.51 | BJ65: 4.51 | BK65: 4.51 | BL65: 4.51 | BM65: 4.51 | BN65: 4.51 | BO65: 0 | BP65: 0 | BQ65: 0 | BR65: 0 | BS65: 0 | BT65: 0 | BU65: 0 | BV65: 0 | BW65: 0 | BX65: 0 | BY65: 0 | BZ65: 0 | CA65: 0 | CB65: 0 | CC65: 0 | CD65: 0 | CE65: 0 | CF65: 0 | CG65: 0 | CH65: 0 | CI65: 0 | CJ65: 0 | CK65: 0 | CL65: 0 | CM65: 0 | CN65: 0 | CO65: 0 | CP65: 0 | CQ65: 0 | CR65: 0 | CS65: 0 | CT65: 0
A66: PUNJAB | B66: ANTA_RF | C66: 60.01 | D66: 60.01 | E66: 60.01 | F66: 60.01 | G66: 60.01 | H66: 60.01 | I66: 60.01 | J66: 60.01 | K66: 60.01 | L66: 60.01 | M66: 60.01 | N66: 60.01 | O66: 60.01 | P66: 60.01 | Q66: 60.01 | R66: 60.01 | S66: 60.01 | T66: 60.01 | U66: 60.01 | V66: 60.01 | W66: 60.01 | X66: 60.01 | Y66: 60.01 | Z66: 60.01 | AA66: 59.56 | AB66: 59.56 | AC66: 59.56 | AD66: 59.56 | AE66: 59.11 | AF66: 59.11 | AG66: 59.11 | AH66: 59.11 | AI66: 59.56 | AJ66: 59.56 | AK66: 59.56 | AL66: 59.56 | AM66: 55.05 | AN66: 55.05 | AO66: 55.05 | AP66: 55.05 | AQ66: 55.05 | AR66: 55.05 | AS66: 55.05 | AT66: 55.05 | AU66: 55.05 | AV66: 55.05 | AW66: 55.05 | AX66: 55.05 | AY66: 54.6 | AZ66: 54.6 | BA66: 54.6 | BB66: 54.6 | BC66: 54.6 | BD66: 54.6 | BE66: 54.6 | BF66: 54.6 | BG66: 54.6 | BH66: 54.6 | BI66: 54.6 | BJ66: 54.6 | BK66: 54.6 | BL66: 54.6 | BM66: 54.6 | BN66: 54.6 | BO66: 59.11 | BP66: 59.11 | BQ66: 59.11 | BR66: 59.11 | BS66: 59.11 | BT66: 59.11 | BU66: 59.11 | BV66: 59.11 | BW66: 59.56 | BX66: 59.56 | BY66: 59.56 | BZ66: 59.56 | CA66: 59.56 | CB66: 59.56 | CC66: 59.56 | CD66: 59.56 | CE66: 59.56 | CF66: 59.56 | CG66: 59.56 | CH66: 59.56 | CI66: 60.01 | CJ66: 60.01 | CK66: 60.01 | CL66: 60.01 | CM66: 60.01 | CN66: 60.01 | CO66: 60.01 | CP66: 60.01 | CQ66: 60.01 | CR66: 60.01 | CS66: 60.01 | CT66: 60.01
A67: PUNJAB | B67: AURY_GF | C67: 0 | D67: 0 | E67: 0 | F67: 0 | G67: 0 | H67: 0 | I67: 0 | J67: 0 | K67: 0 | L67: 0 | M67: 0 | N67: 0 | O67: 0 | P67: 0 | Q67: 0 | R67: 0 | S67: 0 | T67: 0 | U67: 0 | V67: 0 | W67: 0 | X67: 0 | Y67: 0 | Z67: 0 | AA67: 0 | AB67: 0 | AC67: 0 | AD67: 0 | AE67: 0 | AF67: 0 | AG67: 0 | AH67: 0 | AI67: 0 | AJ67: 0 | AK67: 0 | AL67: 0 | AM67: 0 | AN67: 0 | AO67: 0 | AP67: 0 | AQ67: 0 | AR67: 0 | AS67: 0 | AT67: 0 | AU67: 0 | AV67: 0 | AW67: 0 | AX67: 0 | AY67: 0 | AZ67: 0 | BA67: 0 | BB67: 0 | BC67: 0 | BD67: 0 | BE67: 0 | BF67: 0 | BG67: 0 | BH67: 0 | BI67: 0 | BJ67: 0 | BK67: 0 | BL67: 0 | BM67: 0 | BN67: 0 | BO67: 0 | BP67: 0 | BQ67: 0 | BR67: 0 | BS67: 0 | BT67: 0 | BU67: 0 | BV67: 0 | BW67: 0 | BX67: 0 | BY67: 0 | BZ67: 0 | CA67: 0 | CB67: 0 | CC67: 0 | CD67: 0 | CE67: 0 | CF67: 0 | CG67: 0 | CH67: 0 | CI67: 0 | CJ67: 0 | CK67: 0 | CL67: 0 | CM67: 0 | CN67: 0 | CO67: 0 | CP67: 0 | CQ67: 0 | CR67: 0 | CS67: 0 | CT67: 0
A68: PUNJAB | B68: AURY_LF | C68: 44.49 | D68: 44.49 | E68: 44.49 | F68: 44.49 | G68: 44.49 | H68: 44.49 | I68: 44.49 | J68: 44.49 | K68: 44.49 | L68: 44.49 | M68: 44.49 | N68: 44.49 | O68: 44.49 | P68: 44.49 | Q68: 44.49 | R68: 44.49 | S68: 44.49 | T68: 44.49 | U68: 44.49 | V68: 44.49 | W68: 44.49 | X68: 44.49 | Y68: 44.49 | Z68: 44.49 | AA68: 44.49 | AB68: 44.49 | AC68: 44.49 | AD68: 44.49 | AE68: 44.49 | AF68: 44.49 | AG68: 44.49 | AH68: 44.49 | AI68: 44.49 | AJ68: 44.49 | AK68: 44.49 | AL68: 44.49 | AM68: 44.49 | AN68: 44.49 | AO68: 44.49 | AP68: 44.49 | AQ68: 44.49 | AR68: 44.49 | AS68: 44.49 | AT68: 44.49 | AU68: 44.49 | AV68: 44.49 | AW68: 44.49 | AX68: 44.49 | AY68: 44.49 | AZ68: 44.49 | BA68: 44.49 | BB68: 44.49 | BC68: 44.49 | BD68: 44.49 | BE68: 44.49 | BF68: 44.49 | BG68: 44.49 | BH68: 44.49 | BI68: 44.49 | BJ68: 44.49 | BK68: 44.49 | BL68: 44.49 | BM68: 44.49 | BN68: 44.49 | BO68: 44.49 | BP68: 44.49 | BQ68: 44.49 | BR68: 44.49 | BS68: 44.49 | BT68: 44.49 | BU68: 44.49 | BV68: 44.49 | BW68: 44.49 | BX68: 44.49 | BY68: 44.49 | BZ68: 44.49 | CA68: 44.49 | CB68: 44.49 | CC68: 44.49 | CD68: 44.49 | CE68: 44.49 | CF68: 44.49 | CG68: 44.49 | CH68: 44.49 | CI68: 44.49 | CJ68: 44.49 | CK68: 44.49 | CL68: 44.49 | CM68: 44.49 | CN68: 44.49 | CO68: 44.49 | CP68: 44.49 | CQ68: 44.49 | CR68: 44.49 | CS68: 44.49 | CT68: 44.49
A69: PUNJAB | B69: AURY_RF | C69: 37.82 | D69: 37.82 | E69: 37.82 | F69: 37.82 | G69: 37.82 | H69: 37.82 | I69: 37.82 | J69: 37.82 | K69: 37.82 | L69: 37.82 | M69: 37.82 | N69: 37.82 | O69: 37.82 | P69: 37.82 | Q69: 37.82 | R69: 37.82 | S69: 37.82 | T69: 37.82 | U69: 37.82 | V69: 37.82 | W69: 37.82 | X69: 37.82 | Y69: 37.82 | Z69: 37.82 | AA69: 40.04 | AB69: 40.04 | AC69: 40.04 | AD69: 40.04 | AE69: 40.04 | AF69: 40.04 | AG69: 40.04 | AH69: 40.04 | AI69: 40.04 | AJ69: 40.04 | AK69: 40.04 | AL69: 40.04 | AM69: 40.04 | AN69: 40.04 | AO69: 40.04 | AP69: 40.04 | AQ69: 40.04 | AR69: 40.04 | AS69: 40.04 | AT69: 40.04 | AU69: 40.04 | AV69: 40.04 | AW69: 40.04 | AX69: 40.04 | AY69: 40.04 | AZ69: 40.04 | BA69: 40.04 | BB69: 40.04 | BC69: 40.04 | BD69: 40.04 | BE69: 40.04 | BF69: 40.04 | BG69: 40.04 | BH69: 40.04 | BI69: 40.04 | BJ69: 40.04 | BK69: 40.04 | BL69: 40.04 | BM69: 40.04 | BN69: 40.04 | BO69: 40.04 | BP69: 40.04 | BQ69: 40.04 | BR69: 40.04 | BS69: 40.04 | BT69: 40.04 | BU69: 40.04 | BV69: 40.04 | BW69: 40.04 | BX69: 40.04 | BY69: 40.04 | BZ69: 40.04 | CA69: 40.04 | CB69: 40.04 | CC69: 40.04 | CD69: 40.04 | CE69: 40.04 | CF69: 40.04 | CG69: 40.04 | CH69: 40.04 | CI69: 40.04 | CJ69: 40.04 | CK69: 40.04 | CL69: 40.04 | CM69: 40.04 | CN69: 40.04 | CO69: 40.04 | CP69: 40.04 | CQ69: 40.04 | CR69: 40.04 | CS69: 40.04 | CT69: 40.04
A70: PUNJAB | B70: BHAKRA | C70: 132.97 | D70: 132.97 | E70: 132.97 | F70: 132.97 | G70: 132.97 | H70: 132.97 | I70: 132.97 | J70: 132.97 | K70: 132.97 | L70: 132.97 | M70: 132.97 | N70: 132.97 | O70: 132.97 | P70: 132.97 | Q70: 132.97 | R70: 132.97 | S70: 132.97 | T70: 132.97 | U70: 132.97 | V70: 185.67 | W70: 185.67 | X70: 185.67 | Y70: 185.67 | Z70: 185.67 | AA70: 185.67 | AB70: 185.67 | AC70: 185.67 | AD70: 185.67 | AE70: 185.67 | AF70: 185.67 | AG70: 185.67 | AH70: 185.67 | AI70: 185.67 | AJ70: 185.67 | AK70: 185.67 | AL70: 185.67 | AM70: 185.67 | AN70: 185.67 | AO70: 132.97 | AP70: 132.97 | AQ70: 132.97 | AR70: 132.97 | AS70: 132.97 | AT70: 132.97 | AU70: 132.97 | AV70: 132.97 | AW70: 132.97 | AX70: 132.97 | AY70: 132.97 | AZ70: 132.97 | BA70: 132.97 | BB70: 132.97 | BC70: 132.97 | BD70: 132.97 | BE70: 132.97 | BF70: 132.97 | BG70: 132.97 | BH70: 132.97 | BI70: 132.97 | BJ70: 132.97 | BK70: 132.97 | BL70: 132.97 | BM70: 132.97 | BN70: 132.97 | BO70: 132.97 | BP70: 132.97 | BQ70: 132.97 | BR70: 132.97 | BS70: 132.97 | BT70: 185.67 | BU70: 254.62 | BV70: 323.57 | BW70: 429.41 | BX70: 429.41 | BY70: 429.41 | BZ70: 429.41 | CA70: 429.41 | CB70: 429.41 | CC70: 429.41 | CD70: 429.41 | CE70: 424.58 | CF70: 424.58 | CG70: 424.58 | CH70: 424.58 | CI70: 356.51 | CJ70: 288.44 | CK70: 222.56 | CL70: 185.67 | CM70: 132.97 | CN70: 132.97 | CO70: 132.97 | CP70: 132.97 | CQ70: 132.97 | CR70: 132.97 | CS70: 132.97 | CT70: 132.97
A71: PUNJAB | B71: BSIUL | C71: 27.9 | D71: 27.9 | E71: 27.9 | F71: 27.9 | G71: 27.9 | H71: 27.9 | I71: 27.9 | J71: 27.9 | K71: 0 | L71: 0 | M71: 0 | N71: 0 | O71: 0 | P71: 0 | Q71: 0 | R71: 0 | S71: 0 | T71: 0 | U71: 0 | V71: 0 | W71: 0 | X71: 27.9 | Y71: 27.9 | Z71: 27.9 | AA71: 27.9 | AB71: 27.9 | AC71: 27.9 | AD71: 27.9 | AE71: 27.9 | AF71: 27.9 | AG71: 27.9 | AH71: 27.9 | AI71: 0 | AJ71: 0 | AK71: 0 | AL71: 0 | AM71: 0 | AN71: 0 | AO71: 0 | AP71: 0 | AQ71: 0 | AR71: 0 | AS71: 0 | AT71: 27.9 | AU71: 27.9 | AV71: 27.9 | AW71: 27.9 | AX71: 27.9 | AY71: 27.9 | AZ71: 27.9 | BA71: 27.9 | BB71: 27.9 | BC71: 18.6 | BD71: 0 | BE71: 0 | BF71: 0 | BG71: 0 | BH71: 0 | BI71: 0 | BJ71: 0 | BK71: 0 | BL71: 0 | BM71: 0 | BN71: 0 | BO71: 0 | BP71: 0 | BQ71: 0 | BR71: 0 | BS71: 0 | BT71: 0 | BU71: 0 | BV71: 0 | BW71: 30.69 | BX71: 56.73 | BY71: 56.73 | BZ71: 56.73 | CA71: 56.73 | CB71: 56.73 | CC71: 56.73 | CD71: 38.13 | CE71: 0 | CF71: 0 | CG71: 0 | CH71: 0 | CI71: 0 | CJ71: 0 | CK71: 0 | CL71: 0 | CM71: 0 | CN71: 0 | CO71: 0 | CP71: 0 | CQ71: 0 | CR71: 0 | CS71: 0 | CT71: 0
A72: PUNJAB | B72: CHAMERA1 | C72: 0 | D72: 0 | E72: 0 | F72: 0 | G72: 0 | H72: 0 | I72: 0 | J72: 0 | K72: 0 | L72: 0 | M72: 0 | N72: 0 | O72: 0 | P72: 0 | Q72: 0 | R72: 0 | S72: 0 | T72: 0 | U72: 0 | V72: 0 | W72: 0 | X72: 0 | Y72: 0 | Z72: 0 | AA72: 0 | AB72: 18.16 | AC72: 18.16 | AD72: 18.16 | AE72: 18.16 | AF72: 18.16 | AG72: 18.16 | AH72: 0 | AI72: 0 | AJ72: 0 | AK72: 0 | AL72: 0 | AM72: 0 | AN72: 0 | AO72: 0 | AP72: 0 | AQ72: 0 | AR72: 0 | AS72: 0 | AT72: 0 | AU72: 0 | AV72: 0 | AW72: 0 | AX72: 0 | AY72: 0 | AZ72: 0 | BA72: 0 | BB72: 0 | BC72: 0 | BD72: 0 | BE72: 0 | BF72: 0 | BG72: 0 | BH72: 0 | BI72: 0 | BJ72: 0 | BK72: 0 | BL72: 0 | BM72: 0 | BN72: 0 | BO72: 0 | BP72: 0 | BQ72: 0 | BR72: 0 | BS72: 18.16 | BT72: 18.16 | BU72: 31.93 | BV72: 45.39 | BW72: 51 | BX72: 54.47 | BY72: 54.47 | BZ72: 54.47 | CA72: 54.47 | CB72: 54.47 | CC72: 54.47 | CD72: 54.47 | CE72: 54.47 | CF72: 54.47 | CG72: 52.02 | CH72: 51 | CI72: 36.31 | CJ72: 36.31 | CK72: 36.31 | CL72: 36.31 | CM72: 30.6 | CN72: 18.16 | CO72: 0 | CP72: 0 | CQ72: 0 | CR72: 0 | CS72: 0 | CT72: 0
A73: PUNJAB | B73: CHAMERA2 | C73: 13.87 | D73: 13.87 | E73: 0 | F73: 0 | G73: 0 | H73: 0 | I73: 0 | J73: 0 | K73: 0 | L73: 0 | M73: 0 | N73: 0 | O73: 0 | P73: 0 | Q73: 0 | R73: 0 | S73: 0 | T73: 0 | U73: 0 | V73: 0 | W73: 0 | X73: 0 | Y73: 0 | Z73: 0 | AA73: 0 | AB73: 12.61 | AC73: 12.61 | AD73: 12.61 | AE73: 12.61 | AF73: 12.61 | AG73: 12.61 | AH73: 12.61 | AI73: 12.61 | AJ73: 12.61 | AK73: 12.61 | AL73: 12.61 | AM73: 12.61 | AN73: 12.61 | AO73: 12.61 | AP73: 13.87 | AQ73: 13.87 | AR73: 13.87 | AS73: 13.87 | AT73: 13.87 | AU73: 13.87 | AV73: 13.87 | AW73: 13.87 | AX73: 13.87 | AY73: 13.87 | AZ73: 13.87 | BA73: 13.87 | BB73: 13.87 | BC73: 13.87 | BD73: 13.87 | BE73: 13.87 | BF73: 13.87 | BG73: 13.87 | BH73: 13.87 | BI73: 13.87 | BJ73: 13.87 | BK73: 13.87 | BL73: 13.87 | BM73: 13.87 | BN73: 13.87 | BO73: 13.87 | BP73: 13.87 | BQ73: 13.87 | BR73: 13.87 | BS73: 13.87 | BT73: 13.87 | BU73: 13.87 | BV73: 27.74 | BW73: 42.03 | BX73: 42.03 | BY73: 42.03 | BZ73: 42.03 | CA73: 42.03 | CB73: 42.03 | CC73: 42.03 | CD73: 42.03 | CE73: 42.03 | CF73: 41.47 | CG73: 41.47 | CH73: 27.74 | CI73: 27.74 | CJ73: 24.94 | CK73: 13.87 | CL73: 13.87 | CM73: 13.87 | CN73: 13.87 | CO73: 13.87 | CP73: 13.87 | CQ73: 13.87 | CR73: 13.87 | CS73: 13.87 | CT73: 13.87
A74: PUNJAB | B74: CHAMERA3 | C74: 0 | D74: 0 | E74: 0 | F74: 0 | G74: 0 | H74: 0 | I74: 0 | J74: 0 | K74: 0 | L74: 0 | M74: 0 | N74: 0 | O74: 0 | P74: 0 | Q74: 0 | R74: 0 | S74: 0 | T74: 0 | U74: 0 | V74: 0 | W74: 0 | X74: 0 | Y74: 0 | Z74: 0 | AA74: 8.4 | AB74: 8.4 | AC74: 8.4 | AD74: 8.4 | AE74: 8.4 | AF74: 8.4 | AG74: 8.4 | AH74: 8.4 | AI74: 8.4 | AJ74: 8.4 | AK74: 8.4 | AL74: 8.4 | AM74: 8.4 | AN74: 8.4 | AO74: 8.4 | AP74: 8.4 | AQ74: 8.4 | AR74: 8.4 | AS74: 8.4 | AT74: 8.4 | AU74: 8.4 | AV74: 8.4 | AW74: 8.4 | AX74: 8.4 | AY74: 8.4 | AZ74: 8.4 | BA74: 8.4 | BB74: 8.4 | BC74: 8.4 | BD74: 8.4 | BE74: 8.4 | BF74: 8.4 | BG74: 8.4 | BH74: 8.4 | BI74: 8.4 | BJ74: 8.4 | BK74: 8.4 | BL74: 8.4 | BM74: 8.4 | BN74: 8.4 | BO74: 8.4 | BP74: 8.4 | BQ74: 8.4 | BR74: 8.4 | BS74: 8.4 | BT74: 8.4 | BU74: 8.4 | BV74: 16.79 | BW74: 25.86 | BX74: 25.86 | BY74: 25.86 | BZ74: 25.86 | CA74: 25.86 | CB74: 25.86 | CC74: 25.86 | CD74: 25.86 | CE74: 25.86 | CF74: 25.86 | CG74: 25.86 | CH74: 25.86 | CI74: 16.79 | CJ74: 8.4 | CK74: 0 | CL74: 0 | CM74: 0 | CN74: 0 | CO74: 0 | CP74: 0 | CQ74: 0 | CR74: 0 | CS74: 0 | CT74: 0
A75: PUNJAB | B75: DADRI_GF | C75: 32.3 | D75: 32.3 | E75: 32.3 | F75: 32.3 | G75: 32.3 | H75: 32.3 | I75: 32.3 | J75: 32.3 | K75: 32.3 | L75: 32.3 | M75: 32.3 | N75: 32.3 | O75: 32.3 | P75: 32.3 | Q75: 32.3 | R75: 32.3 | S75: 32.3 | T75: 32.3 | U75: 32.3 | V75: 32.3 | W75: 32.3 | X75: 32.3 | Y75: 32.3 | Z75: 32.3 | AA75: 24.44 | AB75: 24.44 | AC75: 24.44 | AD75: 24.44 | AE75: 24.44 | AF75: 24.44 | AG75: 24.44 | AH75: 27.06 | AI75: 27.06 | AJ75: 27.06 | AK75: 27.06 | AL75: 28.81 | AM75: 28.81 | AN75: 28.81 | AO75: 28.81 | AP75: 28.81 | AQ75: 28.81 | AR75: 28.81 | AS75: 28.81 | AT75: 28.81 | AU75: 28.81 | AV75: 28.81 | AW75: 28.81 | AX75: 28.81 | AY75: 28.81 | AZ75: 28.81 | BA75: 28.81 | BB75: 28.81 | BC75: 28.81 | BD75: 28.81 | BE75: 28.81 | BF75: 28.81 | BG75: 28.81 | BH75: 28.81 | BI75: 28.81 | BJ75: 28.81 | BK75: 28.81 | BL75: 28.81 | BM75: 28.81 | BN75: 28.81 | BO75: 28.81 | BP75: 28.81 | BQ75: 28.81 | BR75: 28.81 | BS75: 28.81 | BT75: 28.81 | BU75: 28.81 | BV75: 28.81 | BW75: 28.81 | BX75: 28.81 | BY75: 28.81 | BZ75: 28.81 | CA75: 28.81 | CB75: 28.81 | CC75: 28.81 | CD75: 28.81 | CE75: 28.81 | CF75: 28.81 | CG75: 28.81 | CH75: 28.81 | CI75: 28.81 | CJ75: 28.81 | CK75: 28.81 | CL75: 28.81 | CM75: 28.81 | CN75: 28.81 | CO75: 28.81 | CP75: 28.81 | CQ75: 28.81 | CR75: 28.81 | CS75: 28.81 | CT75: 28.81
... A110: PUNJAB | B110: URI | C110: 5.5 | D110: 5.5 | E110: 5.5 | F110: 28.88 | G110: 28.88 | H110: 2.75 | I110: 2.75 | J110: 2.75 | K110: 2.75 | L110: 2.75 | M110: 2.75 | N110: 2.75 | O110: 2.75 | P110: 2.75 | Q110: 2.75 | R110: 2.75 | S110: 2.75 | T110: 2.75 | U110: 2.75 | V110: 2.75 | W110: 2.75 | X110: 2.75 | Y110: 2.75 | Z110: 2.75 | AA110: 2.75 | AB110: 2.75 | AC110: 2.75 | AD110: 2.75 | AE110: 16.5 | AF110: 28.88 | AG110: 28.88 | AH110: 28.88 | AI110: 8.25 | AJ110: 8.25 | AK110: 8.25 | AL110: 8.25 | AM110: 8.25 | AN110: 8.25 | AO110: 8.25 | AP110: 8.25 | AQ110: 8.25 | AR110: 8.25 | AS110: 8.25 | AT110: 8.25 | AU110: 17.88 | AV110: 17.88 | AW110: 17.88 | AX110: 17.88 | AY110: 17.88 | AZ110: 17.88 | BA110: 8.25 | BB110: 4.13 | BC110: 4.13 | BD110: 4.13 | BE110: 4.13 | BF110: 4.13 | BG110: 4.13 | BH110: 4.13 | BI110: 4.13 | BJ110: 4.13 | BK110: 4.13 | BL110: 4.13 | BM110: 4.13 | BN110: 4.13 | BO110: 4.13 | BP110: 4.13 | BQ110: 5.5 | BR110: 5.5 | BS110: 5.5 | BT110: 5.5 | BU110: 5.5 | BV110: 5.5 | BW110: 5.5 | BX110: 8.25 | BY110: 8.25 | BZ110: 8.25 | CA110: 28.88 | CB110: 28.88 | CC110: 28.88 | CD110: 28.88 | CE110: 28.88 | CF110: 28.88 | CG110: 28.88 | CH110: 28.88 | CI110: 11 | CJ110: 11 | CK110: 11 | CL110: 11 | CM110: 5.5 | CN110: 5.5 | CO110: 5.5 | CP110: 5.5 | CQ110: 11 | CR110: 11 | CS110: 11 | CT110: 11
A111: PUNJAB | B111: URI2 | C111: 2.85 | D111: 2.85 | E111: 2.85 | F111: 2.85 | G111: 2.85 | H111: 2.85 | I111: 2.85 | J111: 2.85 | K111: 2.85 | L111: 2.85 | M111: 2.85 | N111: 2.85 | O111: 2.85 | P111: 2.85 | Q111: 2.85 | R111: 2.85 | S111: 2.85 | T111: 2.85 | U111: 2.85 | V111: 2.85 | W111: 2.85 | X111: 2.85 | Y111: 2.85 | Z111: 2.85 | AA111: 2.85 | AB111: 2.85 | AC111: 2.85 | AD111: 2.85 | AE111: 2.85 | AF111: 2.85 | AG111: 2.85 | AH111: 2.85 | AI111: 13.01 | AJ111: 13.01 | AK111: 13.01 | AL111: 13.01 | AM111: 13.01 | AN111: 2.85 | AO111: 2.85 | AP111: 2.85 | AQ111: 2.85 | AR111: 2.85 | AS111: 2.85 | AT111: 2.85 | AU111: 2.85 | AV111: 2.85 | AW111: 2.85 | AX111: 2.85 | AY111: 2.85 | AZ111: 2.85 | BA111: 2.85 | BB111: 2.85 | BC111: 2.85 | BD111: 2.85 | BE111: 2.85 | BF111: 2.85 | BG111: 2.85 | BH111: 2.85 | BI111: 2.85 | BJ111: 2.85 | BK111: 2.85 | BL111: 2.85 | BM111: 2.85 | BN111: 2.85 | BO111: 2.85 | BP111: 2.85 | BQ111: 2.85 | BR111: 2.85 | BS111: 2.85 | BT111: 2.85 | BU111: 2.85 | BV111: 2.85 | BW111: 2.85 | BX111: 2.85 | BY111: 2.85 | BZ111: 2.85 | CA111: 2.85 | CB111: 13.01 | CC111: 13.01 | CD111: 13.01 | CE111: 13.01 | CF111: 13.01 | CG111: 13.01 | CH111: 13.01 | CI111: 2.85 | CJ111: 2.85 | CK111: 2.85 | CL111: 2.85 | CM111: 2.85 | CN111: 2.85 | CO111: 2.85 | CP111: 2.85 | CQ111: 2.85 | CR111: 2.85 | CS111: 2.85 | CT111: 2.85 | CU111: Reason For Variation (If Actual Drawal is diffenent)
A114: ForDate | B114: Revision | C114: IssueDateTime
A115: 43030 | B115: 62 | C115: 30/10/2017 17:41 Hrs
A116: State | B116: StationName | C116: Block1 | D116: Block2 | E116: Block3 | F116: Block4 | G116: Block5 | H116: Block6 | I116: Block7 | J116: Block8 | K116: Block9 | L116: Block10 | M116: Block11 | N116: Block12 | O116: Block13 | P116: Block14 | Q116: Block15 | R116: Block16 | S116: Block17 | T116: Block18 | U116: Block19 | V116: Block20 | W116: Block21 | X116: Block22 | Y116: Block23 | Z116: Block24 | AA116: Block25 | AB116: Block26 | AC116: Block27 | AD116: Block28 | AE116: Block29 | AF116: Block30 | AG116: Block31 | AH116: Block32 | AI116: Block33 | AJ116: Block34 | AK116: Block35 | AL116: Block36 | AM116: Block37 | AN116: Block38 | AO116: Block39 | AP116: Block40 | AQ116: Block41 | AR116: Block42 | AS116: Block43 | AT116: Block44 | AU116: Block45 | AV116: Block46 | AW116: Block47 | AX116: Block48 | AY116: Block49 | AZ116: Block50 | BA116: Block51 | BB116: Block52 | BC116: Block53 | BD116: Block54 | BE116: Block55 | BF116: Block56 | BG116: Block57 | BH116: Block58 | BI116: Block59 | BJ116: Block60 | BK116: Block61 | BL116: Block62 | BM116: Block63 | BN116: Block64 | BO116: Block65 | BP116: Block66 | BQ116: Block67 | BR116: Block68 | BS116: Block69 | BT116: Block70 | BU116: Block71 | BV116: Block72 | BW116: Block73 | BX116: Block74 | BY116: Block75 | BZ116: Block76 | CA116: Block77 | CB116: Block78 | CC116: Block79 | CD116: Block80 | CE116: Block81 | CF116: Block82 | CG116: Block83 | CH116: Block84 | CI116: Block85 | CJ116: Block86 | CK116: Block87 | CL116: Block88 | CM116: Block89 | CN116: Block90 | CO116: Block91 | CP116: Block92 | CQ116: Block93 | CR116: Block94 | CS116: Block95 | CT116: Block96
A117: State | B117: StationName | C117: 00:00-00:15 | D117: 00:15-00:30 | E117: 00:30-00:45 | F117: 00:45-01:00 | G117: 01:00-01:15 | H117: 01:15-01:30 | I117: 01:30-01:45 | J117: 01:45-02:00 | K117: 02:00-02:15 | L117: 02:15-02:30 | M117: 02:30-02:45 | N117: 02:45-03:00 | O117: 03:00-03:15 | P117: 03:15-03:30 | Q117: 03:30-03:45 | R117: 03:45-04:00 | S117: 04:00-04:15 | T117: 04:15-04:30 | U117: 04:30-04:45 | V117: 04:45-05:00 | W117: 05:00-05:15 | X117: 05:15-05:30 | Y117: 05:30-05:45 | Z117: 05:45-06:00 | AA117: 06:00-06:15 | AB117: 06:15-06:30 | AC117: 06:30-06:45 | AD117: 06:45-07:00 | AE117: 07:00-07:15 | AF117: 07:15-07:30 | AG117: 07:30-07:45 | AH117: 07:45-08:00 | AI117: 08:00-08:15 | AJ117: 08:15-08:30 | AK117: 08:30-08:45 | AL117: 08:45-09:00 | AM117: 09:00-09:15 | AN117: 09:15-09:30 | AO117: 09:30-09:45 | AP117: 09:45-10:00 | AQ117: 10:00-10:15 | AR117: 10:15-10:30 | AS117: 10:30-10:45 | AT117: 10:45-11:00 | AU117: 11:00-11:15 | AV117: 11:15-11:30 | AW117: 11:30-11:45 | AX117: 11:45-12:00 | AY117: 12:00-12:15 | AZ117: 12:15-12:30 | BA117: 12:30-12:45 | BB117: 12:45-13:00 | BC117: 13:00-13:15 | BD117: 13:15-13:30 | BE117: 13:30-13:45 | BF117: 13:45-14:00 | BG117: 14:00-14:15 | BH117: 14:15-14:30 | BI117: 14:30-14:45 | BJ117: 14:45-15:00 | BK117: 15:00-15:15 | BL117: 15:15-15:30 | BM117: 15:30-15:45 | BN117: 15:45-16:00 | BO117: 16:00-16:15 | BP117: 16:15-16:30 | BQ117: 16:30-16:45 | BR117: 16:45-17:00 | BS117: 17:00-17:15 | BT117: 17:15-17:30 | BU117: 17:30-17:45 | BV117: 17:45-18:00 | BW117: 18:00-18:15 | BX117: 18:15-18:30 | BY117: 18:30-18:45 | BZ117: 18:45-19:00 | CA117: 19:00-19:15 | CB117: 19:15-19:30 | CC117: 19:30-19:45 | CD117: 19:45-20:00 | CE117: 20:00-20:15 | CF117: 20:15-20:30 | CG117: 20:30-20:45 | CH117: 20:45-21:00 | CI117: 21:00-21:15 | CJ117: 21:15-21:30 | CK117: 21:30-21:45 | CL117: 21:45-22:00 | CM117: 22:00-22:15 | CN117: 22:15-22:30 | CO117: 22:30-22:45 | CP117: 22:45-23:00 | CQ117: 23:00-23:15 | CR117: 23:15-23:30 | CS117: 23:30-23:45 | CT117: 23:45-24:00
A118: PUNJAB | B118: ANTA_GF | C118: 0 | D118: 0 | E118: 0 | F118: 0 | G118: 0 | H118: 0 | I118: 0 | J118: 0 | K118: 0 | L118: 0 | M118: 0 | N118: 0 | O118: 0 | P118: 0 | Q118: 0 | R118: 0 | S118: 0 | T118: 0 | U118: 0 | V118: 0 | W118: 0 | X118: 0 | Y118: 0 | Z118: 0 | AA118: 0 | AB118: 0 | AC118: 0 | AD118: 0 | AE118: 0 | AF118: 0 | AG118: 0 | AH118: 0 | AI118: 0 | AJ118: 0 | AK118: 0 | AL118: 0 | AM118: 0 | AN118: 0 | AO118: 0 | AP118: 0 | AQ118: 0 | AR118: 0 | AS118: 0 | AT118: 0 | AU118: 0 | AV118: 0 | AW118: 0 | AX118: 0 | AY118: 0 | AZ118: 0 | BA118: 0 | BB118: 0 | BC118: 0 | BD118: 0 | BE118: 0 | BF118: 0 | BG118: 0 | BH118: 0 | BI118: 0 | BJ118: 0 | BK118: 0 | BL118: 0 | BM118: 0 | BN118: 0 | BO118: 0 | BP118: 0 | BQ118: 0 | BR118: 0 | BS118: 0 | BT118: 0 | BU118: 0 | BV118: 0 | BW118: 0 | BX118: 0 | BY118: 0 | BZ118: 0 | CA118: 0 | CB118: 0 | CC118: 0 | CD118: 0 | CE118: 0 | CF118: 0 | CG118: 0 | CH118: 0 | CI118: 0 | CJ118: 0 | CK118: 0 | CL118: 0 | CM118: 0 | CN118: 0 | CO118: 0 | CP118: 0 | CQ118: 0 | CR118: 0 | CS118: 0 | CT118: 0
A119: PUNJAB | B119: ANTA_LF | C119: 0 | D119: 0 | E119: 0 | F119: 0 | G119: 0 | H119: 0 | I119: 0 | J119: 0 | K119: 0 | L119: 0 | M119: 0 | N119: 0 | O119: 0 | P119: 0 | Q119: 0 | R119: 0 | S119: 0 | T119: 0 | U119: 0 | V119: 0 | W119: 0 | X119: 0 | Y119: 0 | Z119: 0 | AA119: 0 | AB119: 0 | AC119: 0 | AD119: 0 | AE119: 0 | AF119: 0 | AG119: 0 | AH119: 0 | AI119: 0 | AJ119: 0 | AK119: 0 | AL119: 0 | AM119: 0 | AN119: 0 | AO119: 0 | AP119: 0 | AQ119: 0 | AR119: 0 | AS119: 0 | AT119: 0 | AU119: 0 | AV119: 0 | AW119: 0 | AX119: 0 | AY119: 0 | AZ119: 0 | BA119: 0 | BB119: 0 | BC119: 0 | BD119: 0 | BE119: 0 | BF119: 0 | BG119: 0 | BH119: 0 | BI119: 0 | BJ119: 0 | BK119: 0 | BL119: 0 | BM119: 0 | BN119: 0 | BO119: 0 | BP119: 0 | BQ119: 0 | BR119: 0 | BS119: 0 | BT119: 0 | BU119: 0 | BV119: 0 | BW119: 0 | BX119: 0 | BY119: 0 | BZ119: 0 | CA119: 0 | CB119: 0 | CC119: 0 | CD119: 0 | CE119: 0 | CF119: 0 | CG119: 0 | CH119: 0 | CI119: 0 | CJ119: 0 | CK119: 0 | CL119: 0 | CM119: 0 | CN119: 0 | CO119: 0 | CP119: 0 | CQ119: 0 | CR119: 0 | CS119: 0 | CT119: 0
A120: PUNJAB | B120: ANTA_RF | C120: 0 | D120: 0 | E120: 0 | F120: 0 | G120: 0 | H120: 0 | I120: 0 | J120: 0 | K120: 0 | L120: 0 | M120: 0 | N120: 0 | O120: 0 | P120: 0 | Q120: 0 | R120: 0 | S120: 0 | T120: 0 | U120: 0 | V120: 0 | W120: 0 | X120: 0 | Y120: 0 | Z120: 0 | AA120: 0 | AB120: 0 | AC120: 0 | AD120: 0 | AE120: 0 | AF120: 0 | AG120: 0 | AH120: 0 | AI120: 0 | AJ120: 0 | AK120: 0 | AL120: 0 | AM120: 0 | AN120: 0 | AO120: 0 | AP120: 0 | AQ120: 0 | AR120: 0 | AS120: 0 | AT120: 0 | AU120: 0 | AV120: 0 | AW120: 0 | AX120: 0 | AY120: 0 | AZ120: 0 | BA120: 0 | BB120: 0 | BC120: 0 | BD120: 0 | BE120: 0 | BF120: 0 | BG120: 0 | BH120: 0 | BI120: 0 | BJ120: 0 | BK120: 0 | BL120: 0 | BM120: 0 | BN120: 0 | BO120: 0 | BP120: 0 | BQ120: 0 | BR120: 0 | BS120: 0 | BT120: 0 | BU120: 0 | BV120: 0 | BW120: 0 | BX120: 0 | BY120: 0 | BZ120: 0 | CA120: 0 | CB120: 0 | CC120: 0 | CD120: 0 | CE120: 0 | CF120: 0 | CG120: 0 | CH120: 0 | CI120: 0 | CJ120: 0 | CK120: 0 | CL120: 0 | CM120: 0 | CN120: 0 | CO120: 0 | CP120: 0 | CQ120: 0 | CR120: 0 | CS120: 0 | CT120: 0
A121: PUNJAB | B121: AURY_GF | C121: 0 | D121: 0 | E121: 0 | F121: 0 | G121: 0 | H121: 0 | I121: 0 | J121: 0 | K121: 0 | L121: 0 | M121: 0 | N121: 0 | O121: 0 | P121: 0 | Q121: 0 | R121: 0 | S121: 0 | T121: 0 | U121: 0 | V121: 0 | W121: 0 | X121: 0 | Y121: 0 | Z121: 0 | AA121: 0 | AB121: 0 | AC121: 0 | AD121: 0 | AE121: 0 | AF121: 0 | AG121: 0 | AH121: 0 | AI121: 0 | AJ121: 0 | AK121: 0 | AL121: 0 | AM121: 0 | AN121: 0 | AO121: 0 | AP121: 0 | AQ121: 0 | AR121: 0 | AS121: 0 | AT121: 0 | AU121: 0 | AV121: 0 | AW121: 0 | AX121: 0 | AY121: 0 | AZ121: 0 | BA121: 0 | BB121: 0 | BC121: 0 | BD121: 0 | BE121: 0 | BF121: 0 | BG121: 0 | BH121: 0 | BI121: 0 | BJ121: 0 | BK121: 0 | BL121: 0 | BM121: 0 | BN121: 0 | BO121: 0 | BP121: 0 | BQ121: 0 | BR121: 0 | BS121: 0 | BT121: 0 | BU121: 0 | BV121: 0 | BW121: 0 | BX121: 0 | BY121: 0 | BZ121: 0 | CA121: 0 | CB121: 0 | CC121: 0 | CD121: 0 | CE121: 0 | CF121: 0 | CG121: 0 | CH121: 0 | CI121: 0 | CJ121: 0 | CK121: 0 | CL121: 0 | CM121: 0 | CN121: 0 | CO121: 0 | CP121: 0 | CQ121: 0 | CR121: 0 | CS121: 0 | CT121: 0
A122: PUNJAB | B122: AURY_LF | C122: 0 | D122: 0 | E122: 0 | F122: 0 | G122: 0 | H122: 0 | I122: 0 | J122: 0 | K122: 0 | L122: 0 | M122: 0 | N122: 0 | O122: 0 | P122: 0 | Q122: 0 | R122: 0 | S122: 0 | T122: 0 | U122: 0 | V122: 0 | W122: 0 | X122: 0 | Y122: 0 | Z122: 0 | AA122: 0 | AB122: 0 | AC122: 0 | AD122: 0 | AE122: 0 | AF122: 0 | AG122: 0 | AH122: 0 | AI122: 0 | AJ122: 0 | AK122: 0 | AL122: 0 | AM122: 0 | AN122: 0 | AO122: 0 | AP122: 0 | AQ122: 0 | AR122: 0 | AS122: 0 | AT122: 0 | AU122: 0 | AV122: 0 | AW122: 0 | AX122: 0 | AY122: 0 | AZ122: 0 | BA122: 0 | BB122: 0 | BC122: 0 | BD122: 0 | BE122: 0 | BF122: 0 | BG122: 0 | BH122: 0 | BI122: 0 | BJ122: 0 | BK122: 0 | BL122: 0 | BM122: 0 | BN122: 0 | BO122: 0 | BP122: 0 | BQ122: 0 | BR122: 0 | BS122: 0 | BT122: 0 | BU122: 0 | BV122: 0 | BW122: 0 | BX122: 0 | BY122: 0 | BZ122: 0 | CA122: 0 | CB122: 0 | CC122: 0 | CD122: 0 | CE122: 0 | CF122: 0 | CG122: 0 | CH122: 0 | CI122: 0 | CJ122: 0 | CK122: 0 | CL122: 0 | CM122: 0 | CN122: 0 | CO122: 0 | CP122: 0 | CQ122: 0 | CR122: 0 | CS122: 0 | CT122: 0
A123: PUNJAB | B123: AURY_RF | C123: 0 | D123: 0 | E123: 0 | F123: 0 | G123: 0 | H123: 0 | I123: 0 | J123: 0 | K123: 0 | L123: 0 | M123: 0 | N123: 0 | O123: 0 | P123: 0 | Q123: 0 | R123: 0 | S123: 0 | T123: 0 | U123: 0 | V123: 0 | W123: 0 | X123: 0 | Y123: 0 | Z123: 0 | AA123: 0 | AB123: 0 | AC123: 0 | AD123: 0 | AE123: 0 | AF123: 0 | AG123: 0 | AH123: 0 | AI123: 0 | AJ123: 0 | AK123: 0 | AL123: 0 | AM123: 0 | AN123: 0 | AO123: 0 | AP123: 0 | AQ123: 0 | AR123: 0 | AS123: 0 | AT123: 0 | AU123: 0 | AV123: 0 | AW123: 0 | AX123: 0 | AY123: 0 | AZ123: 0 | BA123: 0 | BB123: 0 | BC123: 0 | BD123: 0 | BE123: 0 | BF123: 0 | BG123: 0 | BH123: 0 | BI123: 0 | BJ123: 0 | BK123: 0 | BL123: 0 | BM123: 0 | BN123: 0 | BO123: 0 | BP123: 0 | BQ123: 0 | BR123: 0 | BS123: 0 | BT123: 0 | BU123: 0 | BV123: 0 | BW123: 0 | BX123: 0 | BY123: 0 | BZ123: 0 | CA123: 0 | CB123: 0 | CC123: 0 | CD123: 0 | CE123: 0 | CF123: 0 | CG123: 0 | CH123: 0 | CI123: 0 | CJ123: 0 | CK123: 0 | CL123: 0 | CM123: 0 | CN123: 0 | CO123: 0 | CP123: 0 | CQ123: 0 | CR123: 0 | CS123: 0 | CT123: 0
A124: PUNJAB | B124: BHAKRA | C124: 132.97 | D124: 132.97 | E124: 132.97 | F124: 132.97 | G124: 132.97 | H124: 132.97 | I124: 132.97 | J124: 132.97 | K124: 132.97 | L124: 132.97 | M124: 132.97 | N124: 132.97 | O124: 132.97 | P124: 132.97 | Q124: 132.97 | R124: 132.97 | S124: 132.97 | T124: 132.97 | U124: 132.97 | V124: 185.67 | W124: 185.67 | X124: 185.67 | Y124: 185.67 | Z124: 185.67 | AA124: 185.67 | AB124: 185.67 | AC124: 185.67 | AD124: 185.67 | AE124: 185.67 | AF124: 185.67 | AG124: 185.67 | AH124: 185.67 | AI124: 185.67 | AJ124: 185.67 | AK124: 185.67 | AL124: 185.67 | AM124: 185.67 | AN124: 185.67 | AO124: 132.97 | AP124: 132.97 | AQ124: 132.97 | AR124: 132.97 | AS124: 132.97 | AT124: 132.97 | AU124: 132.97 | AV124: 132.97 | AW124: 132.97 | AX124: 132.97 | AY124: 132.97 | AZ124: 132.97 | BA124: 132.97 | BB124: 132.97 | BC124: 132.97 | BD124: 132.97 | BE124: 132.97 | BF124: 132.97 | BG124: 132.97 | BH124: 132.97 | BI124: 132.97 | BJ124: 132.97 | BK124: 132.97 | BL124: 132.97 | BM124: 132.97 | BN124: 132.97 | BO124: 132.97 | BP124: 132.97 | BQ124: 132.97 | BR124: 132.97 | BS124: 132.97 | BT124: 185.67 | BU124: 254.62 | BV124: 323.57 | BW124: 429.41 | BX124: 429.41 | BY124: 429.41 | BZ124: 429.41 | CA124: 429.41 | CB124: 429.41 | CC124: 429.41 | CD124: 429.41 | CE124: 424.58 | CF124: 424.58 | CG124: 424.58 | CH124: 424.58 | CI124: 356.51 | CJ124: 288.44 | CK124: 222.56 | CL124: 185.67 | CM124: 132.97 | CN124: 132.97 | CO124: 132.97 | CP124: 132.97 | CQ124: 132.97 | CR124: 132.97 | CS124: 132.97 | CT124: 132.97
A125: PUNJAB | B125: BSIUL | C125: 27.9 | D125: 27.9 | E125: 27.9 | F125: 27.9 | G125: 27.9 | H125: 27.9 | I125: 27.9 | J125: 27.9 | K125: 0 | L125: 0 | M125: 0 | N125: 0 | O125: 0 | P125: 0 | Q125: 0 | R125: 0 | S125: 0 | T125: 0 | U125: 0 | V125: 0 | W125: 0 | X125: 27.9 | Y125: 27.9 | Z125: 27.9 | AA125: 27.9 | AB125: 27.9 | AC125: 27.9 | AD125: 27.9 | AE125: 27.9 | AF125: 27.9 | AG125: 27.9 | AH125: 27.9 | AI125: 0 | AJ125: 0 | AK125: 0 | AL125: 0 | AM125: 0 | AN125: 0 | AO125: 0 | AP125: 0 | AQ125: 0 | AR125: 0 | AS125: 0 | AT125: 27.9 | AU125: 27.9 | AV125: 27.9 | AW125: 27.9 | AX125: 27.9 | AY125: 27.9 | AZ125: 27.9 | BA125: 27.9 | BB125: 27.9 | BC125: 18.6 | BD125: 0 | BE125: 0 | BF125: 0 | BG125: 0 | BH125: 0 | BI125: 0 | BJ125: 0 | BK125: 0 | BL125: 0 | BM125: 0 | BN125: 0 | BO125: 0 | BP125: 0 | BQ125: 0 | BR125: 0 | BS125: 0 | BT125: 0 | BU125: 0 | BV125: 0 | BW125: 30.69 | BX125: 56.73 | BY125: 56.73 | BZ125: 56.73 | CA125: 56.73 | CB125: 56.73 | CC125: 56.73 | CD125: 38.13 | CE125: 0 | CF125: 0 | CG125: 0 | CH125: 0 | CI125: 0 | CJ125: 0 | CK125: 0 | CL125: 0 | CM125: 0 | CN125: 0 | CO125: 0 | CP125: 0 | CQ125: 0 | CR125: 0 | CS125: 0 | CT125: 0
A126: PUNJAB | B126: CHAMERA1 | C126: 0 | D126: 0 | E126: 0 | F126: 0 | G126: 0 | H126: 0 | I126: 0 | J126: 0 | K126: 0 | L126: 0 | M126: 0 | N126: 0 | O126: 0 | P126: 0 | Q126: 0 | R126: 0 | S126: 0 | T126: 0 | U126: 0 | V126: 0 | W126: 0 | X126: 0 | Y126: 0 | Z126: 0 | AA126: 0 | AB126: 18.16 | AC126: 18.16 | AD126: 18.16 | AE126: 18.16 | AF126: 18.16 | AG126: 18.16 | AH126: 0 | AI126: 0 | AJ126: 0 | AK126: 0 | AL126: 0 | AM126: 0 | AN126: 0 | AO126: 0 | AP126: 0 | AQ126: 0 | AR126: 0 | AS126: 0 | AT126: 0 | AU126: 0 | AV126: 0 | AW126: 0 | AX126: 0 | AY126: 0 | AZ126: 0 | BA126: 0 | BB126: 0 | BC126: 0 | BD126: 0 | BE126: 0 | BF126: 0 | BG126: 0 | BH126: 0 | BI126: 0 | BJ126: 0 | BK126: 0 | BL126: 0 | BM126: 0 | BN126: 0 | BO126: 0 | BP126: 0 | BQ126: 0 | BR126: 0 | BS126: 18.16 | BT126: 18.16 | BU126: 31.93 | BV126: 45.39 | BW126: 51 | BX126: 54.47 | BY126: 54.47 | BZ126: 54.47 | CA126: 54.47 | CB126: 54.47 | CC126: 54.47 | CD126: 54.47 | CE126: 54.47 | CF126: 54.47 | CG126: 52.02 | CH126: 51 | CI126: 36.31 | CJ126: 36.31 | CK126: 36.31 | CL126: 36.31 | CM126: 30.6 | CN126: 18.16 | CO126: 0 | CP126: 0 | CQ126: 0 | CR126: 0 | CS126: 0 | CT126: 0
A127: PUNJAB | B127: CHAMERA2 | C127: 13.87 | D127: 13.87 | E127: 0 | F127: 0 | G127: 0 | H127: 0 | I127: 0 | J127: 0 | K127: 0 | L127: 0 | M127: 0 | N127: 0 | O127: 0 | P127: 0 | Q127: 0 | R127: 0 | S127: 0 | T127: 0 | U127: 0 | V127: 0 | W127: 0 | X127: 0 | Y127: 0 | Z127: 0 | AA127: 0 | AB127: 12.61 | AC127: 12.61 | AD127: 12.61 | AE127: 12.61 | AF127: 12.61 | AG127: 12.61 | AH127: 12.61 | AI127: 12.61 | AJ127: 12.61 | AK127: 12.61 | AL127: 12.61 | AM127: 12.61 | AN127: 12.61 | AO127: 12.61 | AP127: 13.87 | AQ127: 13.87 | AR127: 13.87 | AS127: 13.87 | AT127: 13.87 | AU127: 13.87 | AV127: 13.87 | AW127: 13.87 | AX127: 13.87 | AY127: 13.87 | AZ127: 13.87 | BA127: 13.87 | BB127: 13.87 | BC127: 13.87 | BD127: 13.87 | BE127: 13.87 | BF127: 13.87 | BG127: 13.87 | BH127: 13.87 | BI127: 13.87 | BJ127: 13.87 | BK127: 13.87 | BL127: 13.87 | BM127: 13.87 | BN127: 13.87 | BO127: 13.87 | BP127: 13.87 | BQ127: 13.87 | BR127: 13.87 | BS127: 13.87 | BT127: 13.87 | BU127: 13.87 | BV127: 27.74 | BW127: 42.03 | BX127: 42.03 | BY127: 42.03 | BZ127: 42.03 | CA127: 42.03 | CB127: 42.03 | CC127: 42.03 | CD127: 42.03 | CE127: 42.03 | CF127: 41.47 | CG127: 41.47 | CH127: 27.74 | CI127: 27.74 | CJ127: 24.94 | CK127: 13.87 | CL127: 13.87 | CM127: 13.87 | CN127: 13.87 | CO127: 13.87 | CP127: 13.87 | CQ127: 13.87 | CR127: 13.87 | CS127: 13.87 | CT127: 13.87
A128: PUNJAB | B128: CHAMERA3 | C128: 0 | D128: 0 | E128: 0 | F128: 0 | G128: 0 | H128: 0 | I128: 0 | J128: 0 | K128: 0 | L128: 0 | M128: 0 | N128: 0 | O128: 0 | P128: 0 | Q128: 0 | R128: 0 | S128: 0 | T128: 0 | U128: 0 | V128: 0 | W128: 0 | X128: 0 | Y128: 0 | Z128: 0 | AA128: 8.4 | AB128: 8.4 | AC128: 8.4 | AD128: 8.4 | AE128: 8.4 | AF128: 8.4 | AG128: 8.4 | AH128: 8.4 | AI128: 8.4 | AJ128: 8.4 | AK128: 8.4 | AL128: 8.4 | AM128: 8.4 | AN128: 8.4 | AO128: 8.4 | AP128: 8.4 | AQ128: 8.4 | AR128: 8.4 | AS128: 8.4 | AT128: 8.4 | AU128: 8.4 | AV128: 8.4 | AW128: 8.4 | AX128: 8.4 | AY128: 8.4 | AZ128: 8.4 | BA128: 8.4 | BB128: 8.4 | BC128: 8.4 | BD128: 8.4 | BE128: 8.4 | BF128: 8.4 | BG128: 8.4 | BH128: 8.4 | BI128: 8.4 | BJ128: 8.4 | BK128: 8.4 | BL128: 8.4 | BM128: 8.4 | BN128: 8.4 | BO128: 8.4 | BP128: 8.4 | BQ128: 8.4 | BR128: 8.4 | BS128: 8.4 | BT128: 8.4 | BU128: 8.4 | BV128: 16.79 | BW128: 25.86 | BX128: 25.86 | BY128: 25.86 | BZ128: 25.86 | CA128: 25.86 | CB128: 25.86 | CC128: 25.86 | CD128: 25.86 | CE128: 25.86 | CF128: 25.86 | CG128: 25.86 | CH128: 25.86 | CI128: 16.79 | CJ128: 8.4 | CK128: 0 | CL128: 0 | CM128: 0 | CN128: 0 | CO128: 0 | CP128: 0 | CQ128: 0 | CR128: 0 | CS128: 0 | CT128: 0
A129: PUNJAB | B129: DADRI_GF | C129: 30.67 | D129: 30.67 | E129: 30.67 | F129: 30.59 | G129: 30.59 | H129: 30.75 | I129: 30.68 | J129: 30.68 | K129: 30.68 | L129: 30.61 | M129: 30.55 | N129: 30.55 | O129: 30.55 | P129: 30.55 | Q129: 30.55 | R129: 30.55 | S129: 30.55 | T129: 30.55 | U129: 30.55 | V129: 30.55 | W129: 30.55 | X129: 30.55 | Y129: 30.55 | Z129: 30.55 | AA129: 22.96 | AB129: 22.96 | AC129: 23.12 | AD129: 23.12 | AE129: 23.12 | AF129: 23.34 | AG129: 23.34 | AH129: 25.84 | AI129: 25.72 | AJ129: 25.72 | AK129: 25.72 | AL129: 27.39 | AM129: 27.25 | AN129: 27.25 | AO129: 27.4 | AP129: 27.4 | AQ129: 27.4 | AR129: 27.4 | AS129: 27.4 | AT129: 26.02 | AU129: 26.02 | AV129: 26.02 | AW129: 26.02 | AX129: 26.02 | AY129: 26.02 | AZ129: 26.02 | BA129: 26.02 | BB129: 26.02 | BC129: 27.4 | BD129: 27.4 | BE129: 27.4 | BF129: 27.4 | BG129: 27.27 | BH129: 27.27 | BI129: 27.27 | BJ129: 27.4 | BK129: 27.4 | BL129: 27.4 | BM129: 27.4 | BN129: 27.4 | BO129: 27.4 | BP129: 27.4 | BQ129: 27.4 | BR129: 27.93 | BS129: 27.92 | BT129: 27.39 | BU129: 27.39 | BV129: 27.42 | BW129: 27.42 | BX129: 27.42 | BY129: 27.42 | BZ129: 27.42 | CA129: 26.07 | CB129: 26.07 | CC129: 26.07 | CD129: 26.5 | CE129: 26.5 | CF129: 26.64 | CG129: 27.64 | CH129: 27.64 | CI129: 27.57 | CJ129: 27.57 | CK129: 27.57 | CL129: 26.25 | CM129: 26.25 | CN129: 26.25 | CO129: 26.25 | CP129: 26.25 | CQ129: 26.25 | CR129: 26.25 | CS129: 27.57 | CT129: 27.57
... A165: PUNJAB | B165: URI2 | C165: 2.85 | D165: 2.85 | E165: 2.85 | F165: 2.85 | G165: 2.85 | H165: 2.85 | I165: 2.85 | J165: 2.85 | K165: 2.85 | L165: 2.85 | M165: 2.85 | N165: 2.85 | O165: 2.85 | P165: 2.85 | Q165: 2.85 | R165: 2.85 | S165: 2.85 | T165: 2.85 | U165: 2.85 | V165: 2.85 | W165: 2.85 | X165: 2.85 | Y165: 2.85 | Z165: 2.85 | AA165: 2.85 | AB165: 2.85 | AC165: 2.85 | AD165: 2.85 | AE165: 2.85 | AF165: 2.85 | AG165: 2.85 | AH165: 2.85 | AI165: 13.01 | AJ165: 13.01 | AK165: 13.01 | AL165: 13.01 | AM165: 13.01 | AN165: 2.85 | AO165: 2.85 | AP165: 2.85 | AQ165: 2.85 | AR165: 2.85 | AS165: 2.85 | AT165: 2.85 | AU165: 2.85 | AV165: 2.85 | AW165: 2.85 | AX165: 2.85 | AY165: 2.85 | AZ165: 2.85 | BA165: 2.85 | BB165: 2.85 | BC165: 2.85 | BD165: 2.85 | BE165: 2.85 | BF165: 2.85 | BG165: 2.85 | BH165: 2.85 | BI165: 2.85 | BJ165: 2.85 | BK165: 2.85 | BL165: 2.85 | BM165: 2.85 | BN165: 2.85 | BO165: 2.85 | BP165: 2.85 | BQ165: 2.85 | BR165: 2.85 | BS165: 2.85 | BT165: 2.85 | BU165: 2.85 | BV165: 2.85 | BW165: 2.85 | BX165: 2.85 | BY165: 2.85 | BZ165: 2.85 | CA165: 2.85 | CB165: 13.01 | CC165: 13.01 | CD165: 13.01 | CE165: 13.01 | CF165: 13.01 | CG165: 13.01 | CH165: 13.01 | CI165: 2.85 | CJ165: 2.85 | CK165: 2.85 | CL165: 2.85 | CM165: 2.85 | CN165: 2.85 | CO165: 2.85 | CP165: 2.85 | CQ165: 2.85 | CR165: 2.85 | CS165: 2.85 | CT165: 2.85

Sheet Backdown
B1: Instances when State Generating Stations were Backed Down with reasons leading to such Backing Down.
V2: Format-3D
U3: Date | V3: ='Own generation'!G2 -> 43030
B4: Backdown of Own generating Stations
A5: GGSSTP, Ropar | I5: GNDTP, Bathinda | Q5: GHTP, Lehra Mohabbat
C6: Time | K6: Time | S6: Time
A7: Unit | B7: Quantum (Loss of generation) (MW) | C7: FROM | D7: TO | E7: Total LUs | F7: REASON | G7: Remarks | I7: Unit | J7: Quantum (Loss of generation) (MW) | K7: FROM | L7: TO | M7: Total LUs | N7: REASON | O7: Remarks | Q7: Unit | R7: Quantum (Loss of generation) (MW) | S7: FROM | T7: TO | U7: Total LUs | V7: REASON | W7: Remarks
A8: Unit I,II,III,IV,V,VI | E8: 0 | G8: Unit no. 1,2 Under Shunt down | I8: Unit I,II,III, IV | M8: =(HOUR(L8-K8)+MINUTE(L8-K8)/60)*J8/100 -> 0 | O8: Units no. 2,3,4Under Shutdown | Q8: Unit I,II,III,IV | U8: 0
E9: =(HOUR(D9-C9)+MINUTE(D9-C9)/60)*B9/100 -> 0 | M9: =(HOUR(L9-K9)+MINUTE(L9-K9)/60)*J9/100 -> 0 | U9: =(HOUR(T9-S9)+MINUTE(T9-S9)/60)*R9/100 -> 0
E10: =(HOUR(D10-C10)+MINUTE(D10-C10)/60)*B10/100 -> 0 | M10: =(HOUR(L10-K10)+MINUTE(L10-K10)/60)*J10/100 -> 0 | U10: =(HOUR(T10-S10)+MINUTE(T10-S10)/60)*R10/100 -> 0
E11: =(HOUR(D11-C11)+MINUTE(D11-C11)/60)*B11/100 -> 0 | M11: =(HOUR(L11-K11)+MINUTE(L11-K11)/60)*J11/100 -> 0 | U11: =(HOUR(T11-S11)+MINUTE(T11-S11)/60)*R11/100 -> 0
E12: =(HOUR(D12-C12)+MINUTE(D12-C12)/60)*B12/100 -> 0 | M12: =(HOUR(L12-K12)+MINUTE(L12-K12)/60)*J12/100 -> 0 | U12: =(HOUR(T12-S12)+MINUTE(T12-S12)/60)*R12/100 -> 0
E13: =(HOUR(D13-C13)+MINUTE(D13-C13)/60)*B13/100 -> 0 | M13: =(HOUR(L13-K13)+MINUTE(L13-K13)/60)*J13/100 -> 0 | U13: =(HOUR(T13-S13)+MINUTE(T13-S13)/60)*R13/100 -> 0
E14: =(HOUR(D14-C14)+MINUTE(D14-C14)/60)*B14/100 -> 0 | M14: =(HOUR(L14-K14)+MINUTE(L14-K14)/60)*J14/100 -> 0 | U14: =(HOUR(T14-S14)+MINUTE(T14-S14)/60)*R14/100 -> 0
E15: =(HOUR(D15-C15)+MINUTE(D15-C15)/60)*B15/100 -> 0 | M15: =(HOUR(L15-K15)+MINUTE(L15-K15)/60)*J15/100 -> 0 | U15: =(HOUR(T15-S15)+MINUTE(T15-S15)/60)*R15/100 -> 0
E16: =(HOUR(D16-C16)+MINUTE(D16-C16)/60)*B16/100 -> 0 | M16: =(HOUR(L16-K16)+MINUTE(L16-K16)/60)*J16/100 -> 0 | U16: =(HOUR(T16-S16)+MINUTE(T16-S16)/60)*R16/100 -> 0
E17: =(HOUR(D17-C17)+MINUTE(D17-C17)/60)*B17/100 -> 0 | M17: =(HOUR(L17-K17)+MINUTE(L17-K17)/60)*J17/100 -> 0 | U17: =(HOUR(T17-S17)+MINUTE(T17-S17)/60)*R17/100 -> 0
E18: =(HOUR(D18-C18)+MINUTE(D18-C18)/60)*B18/100 -> 0 | M18: =(HOUR(L18-K18)+MINUTE(L18-K18)/60)*J18/100 -> 0 | U18: =(HOUR(T18-S18)+MINUTE(T18-S18)/60)*R18/100 -> 0
E19: =(HOUR(D19-C19)+MINUTE(D19-C19)/60)*B19/100 -> 0 | M19: =(HOUR(L19-K19)+MINUTE(L19-K19)/60)*J19/100 -> 0 | U19: =(HOUR(T19-S19)+MINUTE(T19-S19)/60)*R19/100 -> 0
E20: =(HOUR(D20-C20)+MINUTE(D20-C20)/60)*B20/100 -> 0 | M20: =(HOUR(L20-K20)+MINUTE(L20-K20)/60)*J20/100 -> 0 | U20: =(HOUR(T20-S20)+MINUTE(T20-S20)/60)*R20/100 -> 0
... E29: =(HOUR(D29-C29)+MINUTE(D29-C29)/60)*B29/100 -> 0 | M29: =(HOUR(L29-K29)+MINUTE(L29-K29)/60)*J29/100 -> 0 | U29: =(HOUR(T29-S29)+MINUTE(T29-S29)/60)*R29/100 -> 0
A30: TOTAL | B30: =SUM(E8:E29)+SUM(M8:M29)+SUM(U8:U29) -> 0
A32: B. | B32: Hydel Projects( Own Hydel Projects)
C34: Time
A35: Station | B35: Quantum (Loss of generation) (MW) | C35: FROM | D35: TO | E35: Total (Lus) | F35: REASON
A36: Shanan | B36: 0 | E36: =(HOUR(D36-C36)+MINUTE(D36-C36)/60)*B36/100 -> 0
A37: UBDC | B37: 0 | E37: =(HOUR(D37-C37)+MINUTE(D37-C37)/60)*B37/100 -> 0
A38: MHP | B38: 0 | E38: =(HOUR(D38-C38)+MINUTE(D38-C38)/60)*B38/100 -> 0
A39: ASHP | B39: 0 | E39: =(HOUR(D39-C39)+MINUTE(D39-C39)/60)*B39/100 -> 0
A40: RSD | B40: 0 | E40: =(HOUR(D40-C40)+MINUTE(D40-C40)/60)*B40/100 -> 0
A41: MICRO | B41: 0 | E41: =(HOUR(D41-C41)+MINUTE(D41-C41)/60)*B41/100 -> 0
A43: C. | B43: Backdown on IPPs
A45: NPL, RAJPURA | H45: TSPL, Talwandi Sabo | O45: GVK, Goindwal Sahib
C46: Time | J46: Time | Q46: Time
A47: Unit | B47: Quantum (Loss of generation) (MW) | C47: FROM | D47: TO | E47: Total LUs | F47: REASON | G47: Remarks | H47: Unit | I47: Quantum (Loss of generation) (MW) | J47: FROM | K47: TO | L47: Total LUs | M47: REASON | N47: Remarks | O47: Unit | P47: Quantum (Loss of generation) (MW) | Q47: FROM | R47: TO | S47: Total LUs | T47: REASON
A48: Units I,II | E48: =(HOUR(D48-C48)+MINUTE(D48-C48)/60)*B48/100 -> 0 | H48: Units I,II,III | I48: 216 | J48: 0 | K48: 0.32291667 | L48: =(HOUR(K48-J48)+MINUTE(K48-J48)/60)*I48/100 -> 16.74 | M48: A | P48: 193 | Q48: 0 | R48: 0.38541667 | S48: =(HOUR(R48-Q48)+MINUTE(R48-Q48)/60)*P48/100 -> 17.8525 | T48: Unit no 2 Under Shutdown
E49: 0 | I49: 217 | J49: 0.8125 | K49: 0.99930556 | L49: =(HOUR(K49-J49)+MINUTE(K49-J49)/60)*I49/100 -> 9.7288333 | M49: A | P49: 190 | Q49: 0.71875 | R49: 0.99930556 | S49: =(HOUR(R49-Q49)+MINUTE(R49-Q49)/60)*P49/100 -> 12.793333
E50: 0 | L50: 0 | S50: 0
E51: =(HOUR(D51-C51)+MINUTE(D51-C51)/60)*B51/100 -> 0 | L51: =(HOUR(K51-J51)+MINUTE(K51-J51)/60)*I51/100 -> 0 | S51: =(HOUR(R51-Q51)+MINUTE(R51-Q51)/60)*P51/100 -> 0
E52: =(HOUR(D52-C52)+MINUTE(D52-C52)/60)*B52/100 -> 0 | L52: =(HOUR(K52-J52)+MINUTE(K52-J52)/60)*I52/100 -> 0 | S52: =(HOUR(R52-Q52)+MINUTE(R52-Q52)/60)*P52/100 -> 0
E53: =(HOUR(D53-C53)+MINUTE(D53-C53)/60)*B53/100 -> 0 | L53: =(HOUR(K53-J53)+MINUTE(K53-J53)/60)*I53/100 -> 0 | S53: =(HOUR(R53-Q53)+MINUTE(R53-Q53)/60)*P53/100 -> 0
E54: =(HOUR(D54-C54)+MINUTE(D54-C54)/60)*B54/100 -> 0 | L54: =(HOUR(K54-J54)+MINUTE(K54-J54)/60)*I54/100 -> 0 | S54: =(HOUR(R54-Q54)+MINUTE(R54-Q54)/60)*P54/100 -> 0
E55: =(HOUR(D55-C55)+MINUTE(D55-C55)/60)*B55/100 -> 0 | L55: =(HOUR(K55-J55)+MINUTE(K55-J55)/60)*I55/100 -> 0 | S55: =(HOUR(R55-Q55)+MINUTE(R55-Q55)/60)*P55/100 -> 0
E56: =(HOUR(D56-C56)+MINUTE(D56-C56)/60)*B56/100 -> 0 | L56: =(HOUR(K56-J56)+MINUTE(K56-J56)/60)*I56/100 -> 0 | S56: =(HOUR(R56-Q56)+MINUTE(R56-Q56)/60)*P56/100 -> 0
E57: =(HOUR(D57-C57)+MINUTE(D57-C57)/60)*B57/100 -> 0 | L57: =(HOUR(K57-J57)+MINUTE(K57-J57)/60)*I57/100 -> 0 | S57: =(HOUR(R57-Q57)+MINUTE(R57-Q57)/60)*P57/100 -> 0
E58: =(HOUR(D58-C58)+MINUTE(D58-C58)/60)*B58/100 -> 0 | L58: =(HOUR(K58-J58)+MINUTE(K58-J58)/60)*I58/100 -> 0 | S58: =(HOUR(R58-Q58)+MINUTE(R58-Q58)/60)*P58/100 -> 0
E59: =(HOUR(D59-C59)+MINUTE(D59-C59)/60)*B59/100 -> 0 | L59: =(HOUR(K59-J59)+MINUTE(K59-J59)/60)*I59/100 -> 0 | S59: =(HOUR(R59-Q59)+MINUTE(R59-Q59)/60)*P59/100 -> 0
E60: =(HOUR(D60-C60)+MINUTE(D60-C60)/60)*B60/100 -> 0 | L60: =(HOUR(K60-J60)+MINUTE(K60-J60)/60)*I60/100 -> 0 | S60: =(HOUR(R60-Q60)+MINUTE(R60-Q60)/60)*P60/100 -> 0
E61: =(HOUR(D61-C61)+MINUTE(D61-C61)/60)*B61/100 -> 0 | L61: =(HOUR(K61-J61)+MINUTE(K61-J61)/60)*I61/100 -> 0 | S61: =(HOUR(R61-Q61)+MINUTE(R61-Q61)/60)*P61/100 -> 0
E62: =(HOUR(D62-C62)+MINUTE(D62-C62)/60)*B62/100 -> 0 | L62: =(HOUR(K62-J62)+MINUTE(K62-J62)/60)*I62/100 -> 0 | S62: =(HOUR(R62-Q62)+MINUTE(R62-Q62)/60)*P62/100 -> 0
... E69: =(HOUR(D69-C69)+MINUTE(D69-C69)/60)*B69/100 -> 0 | L69: =(HOUR(K69-J69)+MINUTE(K69-J69)/60)*I69/100 -> 0 | S69: =(HOUR(R69-Q69)+MINUTE(R69-Q69)/60)*P69/100 -> 0
A71: * Reasons for Variation
A72: a | B72: Less Demand | E72: l | F72: Less Availability of Water
A73: b | B73: Coal Conservation | E73: m | F73: Maintenance of Canals Downstream
A74: c | B74: Technical Fault | E74: n | F74: To reduce discharge in view of emergent situation downstream.
A75: d | B75: Annual Maintenance | E75: o | F75: To meet with the Irrigation Requirement as per indent
A76: e | B76: Renovation
A77: f | B77: Unit Not Commissioned
A78: g | B78: To maintain grid stability in view of high frequency
A79: h | B79: Outage of Transmission Lines evacuating power either due to planned shutdown or on a/c of technical fault.
A80: i | B80: Transmission Contraints
A81: j | B81: Technical Fault at the receiving end of grid Station to bring down high system volatge.
A82: k | B82: To bring down high system voltage
A83: l | B83: Infirm generation

Sheet Surrender 
A1: Instances wherein less than scheduled power was drawan, with specific reference to low cost power from IPPs, ISGS including Central Generating Stations, with justification along with circumstances leading to such less drawal
Y2: Format-4D
Y3: ='Drwal Schedule'!L2 -> 43030
A4: Surrender of Powers from IPPs, ISGS/Central Generating Stations etc.
C5: TIME | G5: TIME | K5: TIME | O5: TIME
A6: Sr. No. | B6: Source | C6: FROM | D6: TO | E6: Quantum | F6: & | G6: FROM | H6: TO | I6: Quantum | J6: & | K6: FROM | L6: TO | M6: Quantum | N6: & | O6: FROM | P6: TO | Q6: Quantum | R6: & | S6: FROM | T6: TO | U6: Quantum | V6: & | W6: FROM | X6: TO | Y6: Quantum | Z6: Remarks
A7: 1 | B7: ANTA(L) | C7: 0 | D7: 24 | E7: FULL | Z7: Since the load varies continously and the response time of the generating stations to the desired change is at least 3 blocks , hence it cannot be matched exactly with the schedule on real time basis.
A8: 2 | B8: AURIYA(L) | C8: 0 | D8: 24 | E8: FULL
A9: 3 | B9: DADRI(L) | C9: 0 | D9: 24 | E9: FULL
A10: 4 | B10: AURIYA(R) | C10: 0 | D10: 24 | E10: FULL
A11: 5 | B11: DADRI R | C11: 0 | D11: 24 | E11: FULL
A12: 6 | B12: ANTA R | C12: 0 | D12: 24 | E12: FULL
A13: 7 | B13: AURIYA(G)
A14: 8 | B14: JHAJJAR | C14: 0 | D14: 0900 | E14: FULL
A15: 9 | B15: DADRI T2 | C15: 0 | D15: 0900 | E15: FULL
A16: 10 | B16: UNCHAHAR I | C16: 0 | D16: 0900 | E16: FULL | G16: 1730 | H16: 24 | I16: FULL | Y16: FULL
A17: 11 | B17: UNCHAHAR II | C17: 0 | D17: 0900 | E17: FULL | G17: 1730 | H17: 24 | I17: FULL | Y17: FULL
A18: 12 | B18: UNCHAHAR III | C18: 0 | D18: 0900 | E18: FULL | G18: 1730 | H18: 24 | I18: FULL
A19: 13 | B19: BAWANA | C19: 0 | D19: 0900 | E19: FULL | G19: 2000 | H19: 2400 | I19: FULL
A20: 14 | B20: KAHALGAON 1
A21: 15 | B21: DADRI(G) | C21: 0 | D21: 0900 | E21: FULL
A22: 16 | B22: KAHALGAON 2
A23: 17 | B23: DVC DTPS
A24: 18 | B24: FARRAKA | C24: 0 | D24: 0900 | E24: FULL | G24: 2000 | H24: 2400 | I24: FULL
A25: 19 | B25: ANTA(G)
A26: 20 | B26: DVC RTPS
A27: 21 | B27: RIHAND I
A28: 22 | B28: RIHAND III
A29: 23 | B29: RIHAND II
A30: 24 | B30: SINGRAULI
A31: 25 | B31: MUNDRA
A32: 26 | B32: SASAN
B48: Name of the station Should be given
A50: * Reasons for each block should be given separately
A51: Note:

Sheet STP
A1: Quantum and Cost of Short Term Power Purchase | E1: Format-5D
D2: Date: | E2: ='Drwal Schedule'!A7 -> 43030
A3: Power Purchase through trader
A4: Sr. no. | B4: Name of trader | C4: Lus | D4: Rate (Rs/Unit) | E4: Remarks
A5: 1 | B5: PTC | C5: 0 | E5: The powers have been purchased under Short Term Agreements and cannot be surrendered.
A6: 3 | B6: Power Trading Crop | C6: 0 | D6: 3.18
A7: 4 | B7: TATA | C7: 0 | D7: 3.18
A8: 5 | B8: JSW | C8: 0 | D8: 3.18
A9: 6 | B9: SCL | C9: 0
A10: 7 | B10: GMRTL_ORRI | C10: 0
A11: 8 | B11: NVVN | C11: 0 | D11: 4.5
A12: 9 | B12: direct purchase (HP) | C12: 0 | D12: 4.12
A13: 10 | B13: Other | C13: 0 | D13: 2.62
B14: Total | C14: =SUM(C5:C13) -> 0
A16: Power Purchase through Exchanges
A17: Sr. no. | B17: Name of Exchange | C17: Lus | D17: Rate (Rs/Unit)
A18: 1 | B18: IEX | C18: 0
A19: 2 | B19: PXIL | C19: 0
B20: Total | C20: 0
A22: Power Purchase through Bilateral Agreements (Banking Arrangements)
A23: Sr. no. | B23: Name of trader | C23: Lus | D23: Rate (Rs/Unit)
A24: 1 | B24: MITTAL_HP | C24: 0
A25: 2 | B25: APPCPL_PSEB | C25: -6.08
A26: 3 | B26: HPSEB | C26: 0
A27: 4 | B27: MPPTCL | C27: 0
A28: 5 | B28: UPCL | C28: 0
A29: 6 | B29: PTC | C29: -48.64
A30: 7 | B30: APPCPL_ASSAM | C30: 0
A31: 8 | B31: APPCPL_RAJ
A32: 9 | B32: MSEDCL
A33: 10 | B33: MiTTAL_RAJ
A34: 11 | B34: MiTTAL_UP | C34: -4.87
A35: 12 | B35: MANIKARN_RAJ
A36: 13 | B36: APP-TPDDL
B37: Total | C37: =SUM(C24:C36) -> -59.59
A38: Power Sale through Exchanges
A39: Sr. no.
A40: 1 | B40: Name of Exchange | C40: Lus | D40: Rate (Rs/Unit)
A41: 2 | B41: IEX
B42: PXIL
B43: Total
A45: Power Sale through trader
A46: Sr. no.
A47: 1 | B47: Name of trader | C47: Lus | D47: Rate (Rs/Unit)
A48: 2 | B48: others | C48: 41.6
A49: 3
A50: 4
A51: 5
A52: 6
A53: 7
A54: 8
B56: Total | C56: =SUM(C48:C55) -> 41.6
A57: Power Sale through Bilateral Agreements (Banking Arrangements)
A58: Sr. no.
A59: 1 | B59: Name of trader | C59: Lus | D59: Rate (Rs/Unit)
A60: 2 | B60: APPCPL_RAJ | D60: NA
A61: 3 | B61: HPSEB | C61: 0 | D61: NA
A62: 4 | B62: MITTAL_HP | D62: NA
A63: 5 | B63: MANIKARAN_HP | D63: NA
A64: 6 | B64: PSEB_HP | D64: NA
A65: 7 | B65: HP_PSEB
A66: 8 | B66: UTTARANCHAL_PSEB | D66: NA
B67: APPCPL | D67: NA
B68: Total | C68: =SUM(C60:C67) -> 0

Sheet Daily load shedding
A1: Hourly Load Shedding along with the reasons for the same.
E2: Format-6D
A3: Hours | B3: MW | C3: Lus | D3: Reasons | E3: Date | F3: ='Drwal Schedule'!A7 -> 43030
A4: 0000-0100 | B4: 0
A5: 0100-0200 | B5: 0
A6: 0200-0300 | B6: 0
A7: 0300-0400 | B7: 0
A8: 0400-0500 | B8: 0
A9: 0500-0600 | B9: 0
A10: 0600-0700 | B10: 0
A11: 0700-0800 | B11: 0
A12: 0800-0900 | B12: 0
A13: 0900-1000 | B13: 0
A14: 1000-1100 | B14: 0
A15: 1100-1200 | B15: 0
... A27: 2300-2400 | B27: 0
A28: Total for the Day | B28: =SUM(B4:B27) -> 0
